BEGIN:VCALENDAR
VERSION:2.0
PRODID:-//Durham Rape Crisis Centre - ECPv6.2.8.1//NONSGML v1.0//EN
CALSCALE:GREGORIAN
METHOD:PUBLISH
X-WR-CALNAME:Durham Rape Crisis Centre
X-ORIGINAL-URL:https://drcc.ca
X-WR-CALDESC:Events for Durham Rape Crisis Centre
REFRESH-INTERVAL;VALUE=DURATION:PT1H
X-Robots-Tag:noindex
X-PUBLISHED-TTL:PT1H
BEGIN:VTIMEZONE
TZID:America/Toronto
BEGIN:DAYLIGHT
TZOFFSETFROM:-0500
TZOFFSETTO:-0400
TZNAME:EDT
DTSTART:20260308T070000
END:DAYLIGHT
BEGIN:STANDARD
TZOFFSETFROM:-0400
TZOFFSETTO:-0500
TZNAME:EST
DTSTART:20261101T060000
END:STANDARD
END:VTIMEZONE
BEGIN:VEVENT
DTSTART;TZID=America/Toronto:20260421T180000
DTEND;TZID=America/Toronto:20260421T193000
DTSTAMP:20260421T024238
CREATED:20260319T214008Z
LAST-MODIFIED:20260319T214008Z
UID:18104-1776794400-1776799800@drcc.ca
SUMMARY:BIPOC Survivors Support Group (NEW)
DESCRIPTION:A NEW confidential support group for individuals who identify as BIPOC survivors of sexual violence. This space centers community\, shared understanding\, and healing – offering a place to connect\, process\, and rebuild a sense of safety and self-trust at your own pace. \nTo register\, email SamanthaG@drcc.ca
URL:https://drcc.ca/event/bipoc-survivors-support-group-new/
END:VEVENT
END:VCALENDAR