BEGIN:VCALENDAR
VERSION:2.0
PRODID:-//Durham Rape Crisis Centre - ECPv6.2.8.1//NONSGML v1.0//EN
CALSCALE:GREGORIAN
METHOD:PUBLISH
X-WR-CALNAME:Durham Rape Crisis Centre
X-ORIGINAL-URL:https://drcc.ca
X-WR-CALDESC:Events for Durham Rape Crisis Centre
REFRESH-INTERVAL;VALUE=DURATION:PT1H
X-Robots-Tag:noindex
X-PUBLISHED-TTL:PT1H
BEGIN:VTIMEZONE
TZID:America/Toronto
BEGIN:DAYLIGHT
TZOFFSETFROM:-0500
TZOFFSETTO:-0400
TZNAME:EDT
DTSTART:20240310T070000
END:DAYLIGHT
BEGIN:STANDARD
TZOFFSETFROM:-0400
TZOFFSETTO:-0500
TZNAME:EST
DTSTART:20241103T060000
END:STANDARD
END:VTIMEZONE
BEGIN:VEVENT
DTSTART;TZID=America/Toronto:20241007T100000
DTEND;TZID=America/Toronto:20241007T110000
DTSTAMP:20260421T191154
CREATED:20240925T150445Z
LAST-MODIFIED:20240925T150446Z
UID:7987-1728295200-1728298800@drcc.ca
SUMMARY:Yoga
DESCRIPTION:Trauma-informed yoga with Sam is an additional holistic healing experience with sequence of movements that help to connect you to your mind and body. All levels are welcome. Participants are encouraged to go at their own pace and to take breaks when needed. \nFor more information about the Yoga group or to register\, please contact Samantha at samanthag@drcc.ca.
URL:https://drcc.ca/event/yoga-7/
LOCATION:Zoom
ORGANIZER;CN="Durham Rape Crisis Centre":MAILTO:info@drcc.ca
END:VEVENT
BEGIN:VEVENT
DTSTART;TZID=America/Toronto:20240925T140000
DTEND;TZID=America/Toronto:20240925T150000
DTSTAMP:20260421T191154
CREATED:20240903T134451Z
LAST-MODIFIED:20240903T134452Z
UID:7782-1727272800-1727276400@drcc.ca
SUMMARY:Youth Survivors' Circle
DESCRIPTION:DRCC’s Youth Survivor’s Circle is a specific group for survivors of sexual violence who are 16-29 years of age. This is a dedicated judgement-free space where youth survivors can learn\, grow\, and heal together. Some groups are themed with specific topics\, and are delivered as a psychoeducational group\, facilitated by one of DRCC’s youth-aged counsellors. Other sessions are specifically created by the day-to-day struggles that are addressed by the group members. This is an ideal space where youth-aged survivors can relate and come together to receive/offer peer support\, to aid with learning and mental health management. Some of the topics can include\, but are not limited to: Healthy Relationships & Sex\, Managing Daily Stressors\, Triggers & Flashbacks\, Sleep Disturbances\, Anxiety & Depression\, Self-Esteem & Strength Building\, and Processing Trauma. DRCC’s Youth Survivor’s Circle has been designed using a feminist\, trauma-informed\, and strengths-based approach. \nFor more information about the Youth Survivor’s Circle or to register\, please contact Isabella at isabella@drcc.ca or call 437-228-1862.
URL:https://drcc.ca/event/youth-survivors-circle-8/
LOCATION:Zoom
ORGANIZER;CN="Durham Rape Crisis Centre":MAILTO:info@drcc.ca
END:VEVENT
BEGIN:VEVENT
DTSTART;TZID=America/Toronto:20240924T150000
DTEND;TZID=America/Toronto:20240924T170000
DTSTAMP:20260421T191154
CREATED:20240903T134830Z
LAST-MODIFIED:20240903T134831Z
UID:7797-1727190000-1727197200@drcc.ca
SUMMARY:Survivors' Circle
DESCRIPTION:The Survivor’s Circle is a monthly drop-in group held on Zoom for women 16 years and older. This is an opportunity for women who have experienced any form of sexual violence or trauma to come together and talk about the struggles or issues they deal with as a result. It is also a forum in which they can share experiences and impacts while getting support from other members. There will be some times where we discuss a particular topic\, or it may be open discussion. There does not need to be any previous counselling\, and no commitment to future groups is required. Members may also attend as often as they would like. \nFor more information about the Survivor’s Circle or to register\, please contact Lynn at lynn@drcc.ca or call 647-273-0457.
URL:https://drcc.ca/event/survivors-circle-28/
LOCATION:Zoom
ORGANIZER;CN="Durham Rape Crisis Centre":MAILTO:info@drcc.ca
END:VEVENT
BEGIN:VEVENT
DTSTART;TZID=America/Toronto:20240923T120000
DTEND;TZID=America/Toronto:20240923T130000
DTSTAMP:20260421T191154
CREATED:20240905T131907Z
LAST-MODIFIED:20240905T131909Z
UID:7840-1727092800-1727096400@drcc.ca
SUMMARY:Meditation
DESCRIPTION:For more information about the meditation group\, please contact Samantha at samanthag@drcc.ca.
URL:https://drcc.ca/event/meditation-9/
LOCATION:Zoom
ORGANIZER;CN="Durham Rape Crisis Centre":MAILTO:info@drcc.ca
END:VEVENT
BEGIN:VEVENT
DTSTART;TZID=America/Toronto:20240919T180000
DTEND;TZID=America/Toronto:20240919T200000
DTSTAMP:20260421T191154
CREATED:20240731T153115Z
LAST-MODIFIED:20240731T174603Z
UID:7477-1726768800-1726776000@drcc.ca
SUMMARY:Take Back The Night: We Are Louder Together
DESCRIPTION:Please join us on Thursday\, September 19th at 6pm at 1 Mcgrigor St. in Oshawa as we celebrate the Durham Rape Crisis Centre’s 31st Annual Take Back The Night: We Are Louder Together! \nTake Back The Night will feature survivor speakers sharing their personal and inspirational stories\, as well as live entertainment performances for guests to enjoy. Pizza and refreshments will be provided to all guests while supplies last. Best of all\, Take Back The Night is a FREE community event for all ages\, with allies welcomed! \nBack by popular demand\, we will also be offering a variety of Take Back The Night swag available for purchase at the event\, including t-shirts\, tote bags\, and stickers. These items are a great way to show your support for our mission of empowering those who have been impacted by sexual violence in our community. Most importantly\, donations to our organization help us continue to offer our services for free in the community! \nThis year\, we are also pleased to welcome special guests Dollz by Dezign and Morrigans Cross WMC who will be supporting us in our walk. Please be advised that motorcycles will be present at Take Back The Night. We understand that this can be triggering for some; we will be setting up an outdoor quiet space for any guests who may wish to use it. \nRegistration for TBTN is available on our Eventbrite page: https://www.eventbrite.ca/e/take-back-the-night-we-are-louder-together-tickets-944192163177?aff=oddtdtcreator \nIf you have any questions before the event\, please email us at info@drcc.ca\, or visit our social media links to stay in the loop! We hope to see you there!
URL:https://drcc.ca/event/take-back-the-night-we-are-louder-together/
LOCATION:1 Mcgrigor St. Oshawa\, ON L1H 1X8\, 1 Mcgrigor St.\, Oshawa\, ON\, L1H 1X8\, Canada
ORGANIZER;CN="Durham Rape Crisis Centre":MAILTO:info@drcc.ca
END:VEVENT
BEGIN:VEVENT
DTSTART;TZID=America/Toronto:20240919T173000
DTEND;TZID=America/Toronto:20240919T183000
DTSTAMP:20260421T191154
CREATED:20240905T132347Z
LAST-MODIFIED:20240905T132348Z
UID:7859-1726767000-1726770600@drcc.ca
SUMMARY:Yoga
DESCRIPTION:For more information about the yoga group\, please contact Samantha at samanthag@drcc.ca.
URL:https://drcc.ca/event/yoga-6/
LOCATION:Zoom
ORGANIZER;CN="Durham Rape Crisis Centre":MAILTO:info@drcc.ca
END:VEVENT
BEGIN:VEVENT
DTSTART;TZID=America/Toronto:20240919T120000
DTEND;TZID=America/Toronto:20240919T130000
DTSTAMP:20260421T191154
CREATED:20240905T131833Z
LAST-MODIFIED:20240905T131835Z
UID:7837-1726747200-1726750800@drcc.ca
SUMMARY:Meditation
DESCRIPTION:For more information about the meditation group\, please contact Samantha at samanthag@drcc.ca.
URL:https://drcc.ca/event/meditation-8/
LOCATION:Zoom
ORGANIZER;CN="Durham Rape Crisis Centre":MAILTO:info@drcc.ca
END:VEVENT
BEGIN:VEVENT
DTSTART;TZID=America/Toronto:20240918T153000
DTEND;TZID=America/Toronto:20240918T163000
DTSTAMP:20260421T191154
CREATED:20240905T132320Z
LAST-MODIFIED:20240905T132320Z
UID:7856-1726673400-1726677000@drcc.ca
SUMMARY:Yoga
DESCRIPTION:For more information about the yoga group\, please contact Samantha at samanthag@drcc.ca.
URL:https://drcc.ca/event/yoga-5/
LOCATION:Zoom
ORGANIZER;CN="Durham Rape Crisis Centre":MAILTO:info@drcc.ca
END:VEVENT
BEGIN:VEVENT
DTSTART;TZID=America/Toronto:20240918T130000
DTEND;TZID=America/Toronto:20240918T140000
DTSTAMP:20260421T191154
CREATED:20240905T131522Z
LAST-MODIFIED:20240905T131524Z
UID:7834-1726664400-1726668000@drcc.ca
SUMMARY:Meditation
DESCRIPTION:For more information about the meditation group\, please contact Samantha at samanthag@drcc.ca.
URL:https://drcc.ca/event/meditation-7/
LOCATION:Zoom
ORGANIZER;CN="Durham Rape Crisis Centre":MAILTO:info@drcc.ca
END:VEVENT
BEGIN:VEVENT
DTSTART;TZID=America/Toronto:20240917T143000
DTEND;TZID=America/Toronto:20240917T153000
DTSTAMP:20260421T191154
CREATED:20240905T132250Z
LAST-MODIFIED:20240905T132254Z
UID:7853-1726583400-1726587000@drcc.ca
SUMMARY:Yoga
DESCRIPTION:For more information about the yoga group\, please contact Samantha at samanthag@drcc.ca.
URL:https://drcc.ca/event/yoga-4/
LOCATION:Zoom
ORGANIZER;CN="Durham Rape Crisis Centre":MAILTO:info@drcc.ca
END:VEVENT
BEGIN:VEVENT
DTSTART;TZID=America/Toronto:20240917T110000
DTEND;TZID=America/Toronto:20240917T120000
DTSTAMP:20260421T191154
CREATED:20240905T131444Z
LAST-MODIFIED:20240905T131445Z
UID:7831-1726570800-1726574400@drcc.ca
SUMMARY:Meditation
DESCRIPTION:For more information about the meditation group\, please contact Samantha at samanthag@drcc.ca.
URL:https://drcc.ca/event/meditation-6/
LOCATION:Zoom
ORGANIZER;CN="Durham Rape Crisis Centre":MAILTO:info@drcc.ca
END:VEVENT
BEGIN:VEVENT
DTSTART;TZID=America/Toronto:20240916T120000
DTEND;TZID=America/Toronto:20240916T130000
DTSTAMP:20260421T191154
CREATED:20240905T131411Z
LAST-MODIFIED:20240905T131412Z
UID:7828-1726488000-1726491600@drcc.ca
SUMMARY:Meditation
DESCRIPTION:For more information about the meditation group\, please contact Samantha at samanthag@drcc.ca.
URL:https://drcc.ca/event/meditation-5/
LOCATION:Zoom
ORGANIZER;CN="Durham Rape Crisis Centre":MAILTO:info@drcc.ca
END:VEVENT
BEGIN:VEVENT
DTSTART;TZID=America/Toronto:20240912T173000
DTEND;TZID=America/Toronto:20240912T183000
DTSTAMP:20260421T191154
CREATED:20240905T132220Z
LAST-MODIFIED:20240905T132222Z
UID:7850-1726162200-1726165800@drcc.ca
SUMMARY:Yoga
DESCRIPTION:For more information about the yoga group\, please contact Samantha at samanthag@drcc.ca.
URL:https://drcc.ca/event/yoga-3/
LOCATION:Zoom
ORGANIZER;CN="Durham Rape Crisis Centre":MAILTO:info@drcc.ca
END:VEVENT
BEGIN:VEVENT
DTSTART;TZID=America/Toronto:20240912T120000
DTEND;TZID=America/Toronto:20240912T130000
DTSTAMP:20260421T191154
CREATED:20240905T131331Z
LAST-MODIFIED:20240905T131332Z
UID:7825-1726142400-1726146000@drcc.ca
SUMMARY:Meditation
DESCRIPTION:For more information about the meditation group\, please contact Samantha at samanthag@drcc.ca.
URL:https://drcc.ca/event/meditation-4/
LOCATION:Zoom
ORGANIZER;CN="Durham Rape Crisis Centre":MAILTO:info@drcc.ca
END:VEVENT
BEGIN:VEVENT
DTSTART;TZID=America/Toronto:20240911T153000
DTEND;TZID=America/Toronto:20240911T163000
DTSTAMP:20260421T191154
CREATED:20240905T132143Z
LAST-MODIFIED:20240905T132145Z
UID:7847-1726068600-1726072200@drcc.ca
SUMMARY:Yoga
DESCRIPTION:For more information about the yoga group\, please contact Samantha at samanthag@drcc.ca.
URL:https://drcc.ca/event/yoga-2/
LOCATION:Zoom
ORGANIZER;CN="Durham Rape Crisis Centre":MAILTO:info@drcc.ca
END:VEVENT
BEGIN:VEVENT
DTSTART;TZID=America/Toronto:20240911T110000
DTEND;TZID=America/Toronto:20240911T120000
DTSTAMP:20260421T191154
CREATED:20240905T131257Z
LAST-MODIFIED:20240905T131258Z
UID:7822-1726052400-1726056000@drcc.ca
SUMMARY:Meditation
DESCRIPTION:For more information about the meditation group\, please contact Samantha at samanthag@drcc.ca.
URL:https://drcc.ca/event/meditation-3/
LOCATION:Zoom
ORGANIZER;CN="Durham Rape Crisis Centre":MAILTO:info@drcc.ca
END:VEVENT
BEGIN:VEVENT
DTSTART;TZID=America/Toronto:20240910T143000
DTEND;TZID=America/Toronto:20240910T153000
DTSTAMP:20260421T191154
CREATED:20240905T132029Z
LAST-MODIFIED:20240905T132031Z
UID:7843-1725978600-1725982200@drcc.ca
SUMMARY:Yoga
DESCRIPTION:For more information about the yoga group\, please contact Samantha at samanthag@drcc.ca.
URL:https://drcc.ca/event/yoga/
LOCATION:Zoom
ORGANIZER;CN="Durham Rape Crisis Centre":MAILTO:info@drcc.ca
END:VEVENT
BEGIN:VEVENT
DTSTART;TZID=America/Toronto:20240910T110000
DTEND;TZID=America/Toronto:20240910T120000
DTSTAMP:20260421T191154
CREATED:20240905T131223Z
LAST-MODIFIED:20240905T131224Z
UID:7819-1725966000-1725969600@drcc.ca
SUMMARY:Meditation
DESCRIPTION:For more information about the meditation group\, please contact Samantha at samanthag@drcc.ca.
URL:https://drcc.ca/event/meditation-2/
LOCATION:Zoom
ORGANIZER;CN="Durham Rape Crisis Centre":MAILTO:info@drcc.ca
END:VEVENT
BEGIN:VEVENT
DTSTART;TZID=America/Toronto:20240909T120000
DTEND;TZID=America/Toronto:20240909T130000
DTSTAMP:20260421T191154
CREATED:20240905T131145Z
LAST-MODIFIED:20240905T131146Z
UID:7815-1725883200-1725886800@drcc.ca
SUMMARY:Meditation
DESCRIPTION:For more information about the meditation group\, please contact Samantha at samanthag@drcc.ca.
URL:https://drcc.ca/event/meditation/
LOCATION:Zoom
ORGANIZER;CN="Durham Rape Crisis Centre":MAILTO:info@drcc.ca
END:VEVENT
BEGIN:VEVENT
DTSTART;TZID=America/Toronto:20240827T150000
DTEND;TZID=America/Toronto:20240827T170000
DTSTAMP:20260421T191154
CREATED:20240730T180420Z
LAST-MODIFIED:20240730T180421Z
UID:7463-1724770800-1724778000@drcc.ca
SUMMARY:Survivors' Circle
DESCRIPTION:The Survivor’s Circle is a monthly drop-in group held on Zoom for women 16 years and older. This is an opportunity for women who have experienced any form of sexual violence or trauma to come together and talk about the struggles or issues they deal with as a result. It is also a forum in which they can share experiences and impacts while getting support from other members. There will be some times where we discuss a particular topic\, or it may be open discussion. There does not need to be any previous counselling\, and no commitment to future groups is required. Members may also attend as often as they would like. \nFor more information about the Survivor’s Circle or to register\, please contact Lynn at lynn@drcc.ca or call 647-273-0457.
URL:https://drcc.ca/event/survivors-circle-27/
LOCATION:Zoom
ORGANIZER;CN="Durham Rape Crisis Centre":MAILTO:info@drcc.ca
END:VEVENT
BEGIN:VEVENT
DTSTART;TZID=America/Toronto:20240807T130000
DTEND;TZID=America/Toronto:20240807T140000
DTSTAMP:20260421T191154
CREATED:20240528T135013Z
LAST-MODIFIED:20240528T135014Z
UID:4247-1723035600-1723039200@drcc.ca
SUMMARY:Supporting Secondary Survivors
DESCRIPTION:The Supporting Secondary Survivors group is a drop-in group for anyone who is supporting a survivor of sexual violence\, regardless of gender. This group is not intended for survivors. Supporting Survivors will be a peer-based group where support people can share experiences of what has worked for them\, areas they are struggling with\, and ask questions to the group and make connections with others. This is a supportive\, non-judgmental space which encourages growth and perspective so participants can better support their loved one. Areas of focus in the group will include boundary work and the importance of self-care for the support person. \nPlease note: You must have completed an intake in order to attend the group. \nFor more information about Supporting Secondary Survivors or to register\, please contact Michaela at michaela@drcc.ca or call 416-278-9086.
URL:https://drcc.ca/event/supporting-secondary-survivors-3/
LOCATION:Zoom
ORGANIZER;CN="Durham Rape Crisis Centre":MAILTO:info@drcc.ca
END:VEVENT
BEGIN:VEVENT
DTSTART;TZID=America/Toronto:20240723T150000
DTEND;TZID=America/Toronto:20240723T170000
DTSTAMP:20260421T191154
CREATED:20240702T131002Z
LAST-MODIFIED:20240702T131003Z
UID:4495-1721746800-1721754000@drcc.ca
SUMMARY:Survivors' Circle
DESCRIPTION:The Survivor’s Circle is a monthly drop-in group held on Zoom for women 16 years and older. This is an opportunity for women who have experienced any form of sexual violence or trauma to come together and talk about the struggles or issues they deal with as a result. It is also a forum in which they can share experiences and impacts while getting support from other members. There will be some times where we discuss a particular topic\, or it may be open discussion. There does not need to be any previous counselling\, and no commitment to future groups is required. Members may also attend as often as they would like. \nFor more information about the Survivor’s Circle or to register\, please contact Lynn at lynn@drcc.ca or call 647-273-0457.
URL:https://drcc.ca/event/survivors-circle-26/
LOCATION:Zoom
ORGANIZER;CN="Durham Rape Crisis Centre":MAILTO:info@drcc.ca
END:VEVENT
BEGIN:VEVENT
DTSTART;TZID=America/Toronto:20240717T140000
DTEND;TZID=America/Toronto:20240717T150000
DTSTAMP:20260421T191154
CREATED:20240528T135225Z
LAST-MODIFIED:20240528T135226Z
UID:4250-1721224800-1721228400@drcc.ca
SUMMARY:Youth Survivors' Circle
DESCRIPTION:DRCC’s Youth Survivor’s Circle is a specific group for survivors of sexual violence who are 16-29 years of age. This is a dedicated judgement-free space where youth survivors can learn\, grow\, and heal together. Some groups are themed with specific topics\, and are delivered as a psychoeducational group\, facilitated by one of DRCC’s youth-aged counsellors. Other sessions are specifically created by the day-to-day struggles that are addressed by the group members. This is an ideal space where youth-aged survivors can relate and come together to receive/offer peer support\, to aid with learning and mental health management. Some of the topics can include\, but are not limited to: Healthy Relationships & Sex\, Managing Daily Stressors\, Triggers & Flashbacks\, Sleep Disturbances\, Anxiety & Depression\, Self-Esteem & Strength Building\, and Processing Trauma. DRCC’s Youth Survivor’s Circle has been designed using a feminist\, trauma-informed\, and strengths-based approach. \nFor more information about the Youth Survivor’s Circle or to register\, please contact Isabella at isabella@drcc.ca or call 437-228-1862.
URL:https://drcc.ca/event/youth-survivors-circle-7/
LOCATION:Zoom
ORGANIZER;CN="Durham Rape Crisis Centre":MAILTO:info@drcc.ca
END:VEVENT
BEGIN:VEVENT
DTSTART;TZID=America/Toronto:20240703T130000
DTEND;TZID=America/Toronto:20240703T140000
DTSTAMP:20260421T191154
CREATED:20240528T134937Z
LAST-MODIFIED:20240528T134938Z
UID:4244-1720011600-1720015200@drcc.ca
SUMMARY:Supporting Secondary Survivors
DESCRIPTION:The Supporting Secondary Survivors group is a drop-in group for anyone who is supporting a survivor of sexual violence\, regardless of gender. This group is not intended for survivors. Supporting Survivors will be a peer-based group where support people can share experiences of what has worked for them\, areas they are struggling with\, and ask questions to the group and make connections with others. This is a supportive\, non-judgmental space which encourages growth and perspective so participants can better support their loved one. Areas of focus in the group will include boundary work and the importance of self-care for the support person. \nPlease note: You must have completed an intake in order to attend the group. \nFor more information about Supporting Secondary Survivors or to register\, please contact Michaela at michaela@drcc.ca or call 416-278-9086.
URL:https://drcc.ca/event/supporting-secondary-survivors-2/
LOCATION:Zoom
ORGANIZER;CN="Durham Rape Crisis Centre":MAILTO:info@drcc.ca
END:VEVENT
BEGIN:VEVENT
DTSTART;TZID=America/Toronto:20240618T150000
DTEND;TZID=America/Toronto:20240618T170000
DTSTAMP:20260421T191154
CREATED:20240528T133957Z
LAST-MODIFIED:20240528T133958Z
UID:4236-1718722800-1718730000@drcc.ca
SUMMARY:Survivors' Circle
DESCRIPTION:The Survivor’s Circle is a monthly drop-in group held on Zoom for women 16 years and older. This is an opportunity for women who have experienced any form of sexual violence or trauma to come together and talk about the struggles or issues they deal with as a result. It is also a forum in which they can share experiences and impacts while getting support from other members. There will be some times where we discuss a particular topic\, or it may be open discussion. There does not need to be any previous counselling\, and no commitment to future groups is required. Members may also attend as often as they would like. \nFor more information about the Survivor’s Circle or to register\, please contact Lynn at lynn@drcc.ca or call 647-273-0457.
URL:https://drcc.ca/event/survivors-circle-25/
LOCATION:Zoom
ORGANIZER;CN="Durham Rape Crisis Centre":MAILTO:info@drcc.ca
END:VEVENT
BEGIN:VEVENT
DTSTART;TZID=America/Toronto:20240605T130000
DTEND;TZID=America/Toronto:20240605T140000
DTSTAMP:20260421T191154
CREATED:20240528T134856Z
LAST-MODIFIED:20240528T134857Z
UID:4240-1717592400-1717596000@drcc.ca
SUMMARY:Supporting Secondary Survivors
DESCRIPTION:The Supporting Secondary Survivors group is a drop-in group for anyone who is supporting a survivor of sexual violence\, regardless of gender. This group is not intended for survivors. Supporting Survivors will be a peer-based group where support people can share experiences of what has worked for them\, areas they are struggling with\, and ask questions to the group and make connections with others. This is a supportive\, non-judgmental space which encourages growth and perspective so participants can better support their loved one. Areas of focus in the group will include boundary work and the importance of self-care for the support person. \nPlease note: You must have completed an intake in order to attend the group. \nFor more information about Supporting Secondary Survivors or to register\, please contact Michaela at michaela@drcc.ca or call 416-278-9086.
URL:https://drcc.ca/event/supporting-secondary-survivors/
LOCATION:Zoom
ORGANIZER;CN="Durham Rape Crisis Centre":MAILTO:info@drcc.ca
END:VEVENT
BEGIN:VEVENT
DTSTART;TZID=America/Toronto:20240528T150000
DTEND;TZID=America/Toronto:20240528T170000
DTSTAMP:20260421T191154
CREATED:20240501T154754Z
LAST-MODIFIED:20240501T154755Z
UID:4108-1716908400-1716915600@drcc.ca
SUMMARY:Survivor's Circle
DESCRIPTION:The Survivor’s Circle is a monthly drop-in group held on Zoom for women 16 years and older. This is an opportunity for women who have experienced any form of sexual violence or trauma to come together and talk about the struggles or issues they deal with as a result. It is also a forum in which they can share experiences and impacts while getting support from other members. There will be some times where we discuss a particular topic\, or it may be open discussion. There does not need to be any previous counselling\, and no commitment to future groups is required. Members may also attend as often as they would like. \nFor more information about the Survivor’s Circle or to register\, please contact Lynn at lynn@drcc.ca or call 647-273-0457.
URL:https://drcc.ca/event/survivors-circle-24/
LOCATION:Zoom
ORGANIZER;CN="Durham Rape Crisis Centre":MAILTO:info@drcc.ca
END:VEVENT
BEGIN:VEVENT
DTSTART;TZID=America/Toronto:20240523T160000
DTEND;TZID=America/Toronto:20240523T180000
DTSTAMP:20260421T191154
CREATED:20240201T195023Z
LAST-MODIFIED:20240201T195023Z
UID:3729-1716480000-1716487200@drcc.ca
SUMMARY:Therapeutic Approach to Trauma
DESCRIPTION:Join us for a 10-week closed therapeutic group that promotes trauma recovery through a combination of psycho-education and support. Learning opportunities will be focused on issues relevant to survivors of sexual violence and open discussions will be facilitated within a safe environment. Participants will be encouraged to risk sharing the challenges they are experiencing so that they may receive support and create helpful tools and strategies for themselves. Cognitive Behaviour Therapy will be the primary modality used to promote healing. \nFor more information about Therapeutic Approach to Trauma or to register\, please contact Tanya at tanya@drcc.ca or call 437-226-9029 for more information about future offerings.
URL:https://drcc.ca/event/therapeutic-approach-to-trauma-12/
LOCATION:Zoom
ORGANIZER;CN="Durham Rape Crisis Centre":MAILTO:info@drcc.ca
END:VEVENT
BEGIN:VEVENT
DTSTART;TZID=America/Toronto:20240516T160000
DTEND;TZID=America/Toronto:20240516T180000
DTSTAMP:20260421T191154
CREATED:20240201T173412Z
LAST-MODIFIED:20240201T194858Z
UID:3716-1715875200-1715882400@drcc.ca
SUMMARY:Therapeutic Approach to Trauma
DESCRIPTION:Join us for a 10-week closed therapeutic group that promotes trauma recovery through a combination of psycho-education and support. Learning opportunities will be focused on issues relevant to survivors of sexual violence and open discussions will be facilitated within a safe environment. Participants will be encouraged to risk sharing the challenges they are experiencing so that they may receive support and create helpful tools and strategies for themselves. Cognitive Behaviour Therapy will be the primary modality used to promote healing. \nFor more information about Therapeutic Approach to Trauma or to register\, please contact Tanya at tanya@drcc.ca or call 437-226-9029 for more information about future offerings.
URL:https://drcc.ca/event/therapeutic-approach-to-trauma-21/
LOCATION:Zoom
ORGANIZER;CN="Durham Rape Crisis Centre":MAILTO:info@drcc.ca
END:VEVENT
BEGIN:VEVENT
DTSTART;TZID=America/Toronto:20240509T160000
DTEND;TZID=America/Toronto:20240509T180000
DTSTAMP:20260421T191154
CREATED:20240201T173316Z
LAST-MODIFIED:20240201T194826Z
UID:3713-1715270400-1715277600@drcc.ca
SUMMARY:Therapeutic Approach to Trauma
DESCRIPTION:Join us for a 10-week closed therapeutic group that promotes trauma recovery through a combination of psycho-education and support. Learning opportunities will be focused on issues relevant to survivors of sexual violence and open discussions will be facilitated within a safe environment. Participants will be encouraged to risk sharing the challenges they are experiencing so that they may receive support and create helpful tools and strategies for themselves. Cognitive Behaviour Therapy will be the primary modality used to promote healing. \nFor more information about Therapeutic Approach to Trauma or to register\, please contact Tanya at tanya@drcc.ca or call 437-226-9029 for more information about future offerings.
URL:https://drcc.ca/event/therapeutic-approach-to-trauma-20/
LOCATION:Zoom
ORGANIZER;CN="Durham Rape Crisis Centre":MAILTO:info@drcc.ca
END:VEVENT
END:VCALENDAR