BEGIN:VCALENDAR
VERSION:2.0
PRODID:-//Durham Rape Crisis Centre - ECPv6.2.8.1//NONSGML v1.0//EN
CALSCALE:GREGORIAN
METHOD:PUBLISH
X-WR-CALNAME:Durham Rape Crisis Centre
X-ORIGINAL-URL:https://drcc.ca
X-WR-CALDESC:Events for Durham Rape Crisis Centre
REFRESH-INTERVAL;VALUE=DURATION:PT1H
X-Robots-Tag:noindex
X-PUBLISHED-TTL:PT1H
BEGIN:VTIMEZONE
TZID:America/Toronto
BEGIN:DAYLIGHT
TZOFFSETFROM:-0500
TZOFFSETTO:-0400
TZNAME:EDT
DTSTART:20200308T070000
END:DAYLIGHT
BEGIN:STANDARD
TZOFFSETFROM:-0400
TZOFFSETTO:-0500
TZNAME:EST
DTSTART:20201101T060000
END:STANDARD
BEGIN:DAYLIGHT
TZOFFSETFROM:-0500
TZOFFSETTO:-0400
TZNAME:EDT
DTSTART:20210314T070000
END:DAYLIGHT
BEGIN:STANDARD
TZOFFSETFROM:-0400
TZOFFSETTO:-0500
TZNAME:EST
DTSTART:20211107T060000
END:STANDARD
BEGIN:DAYLIGHT
TZOFFSETFROM:-0500
TZOFFSETTO:-0400
TZNAME:EDT
DTSTART:20220313T070000
END:DAYLIGHT
BEGIN:STANDARD
TZOFFSETFROM:-0400
TZOFFSETTO:-0500
TZNAME:EST
DTSTART:20221106T060000
END:STANDARD
BEGIN:DAYLIGHT
TZOFFSETFROM:-0500
TZOFFSETTO:-0400
TZNAME:EDT
DTSTART:20230312T070000
END:DAYLIGHT
BEGIN:STANDARD
TZOFFSETFROM:-0400
TZOFFSETTO:-0500
TZNAME:EST
DTSTART:20231105T060000
END:STANDARD
END:VTIMEZONE
BEGIN:VEVENT
DTSTART;TZID=America/Toronto:20230524T140000
DTEND;TZID=America/Toronto:20230524T150000
DTSTAMP:20260422T071303
CREATED:20230501T135341Z
LAST-MODIFIED:20230501T192924Z
UID:2642-1684936800-1684940400@drcc.ca
SUMMARY:Webinar: Sex Trafficking in Durham Region: Awareness & Safety
DESCRIPTION:Welcome to our upcoming webinar on Sex Trafficking Awareness and Safety in Durham! As part of Sexual Violence Prevention Month\, we are excited to host this event to bring awareness to the issue of sex trafficking and equip individuals with the knowledge and tools to identify and prevent trafficking in their communities. \nThe webinar will take place on Wednesday\, May 24th at 2pm and will last for approximately 45 minutes with a 15 minute Q&A session. Our hosts for this webinar are Isabella and Alisha from the Durham Rape Crisis Centre Public Education Team\, who are experts in the field of sexual violence prevention and response. \nDuring the webinar\, we will explore key aspects of sex trafficking including descriptions and statistics surrounding the issue\, risk factors\, signs of trafficking\, and keys to supporting someone who may be trafficked. We will also highlight local supports and resources available in Durham for those affected by trafficking. \nBy attending this webinar\, you will gain a deeper understanding of sex trafficking and its impact on individuals and communities. You will also learn how to recognize signs of trafficking and how to provide support and resources to those in need. \nDon’t miss out on this important opportunity to learn about sex trafficking awareness and safety in Durham. Register now to reserve your spot and join us on May 24th at 2pm for this informative webinar.
URL:https://drcc.ca/event/webinar-sex-trafficking-in-durham-region-awareness-safety/
LOCATION:Zoom
ORGANIZER;CN="Durham Rape Crisis Centre":MAILTO:info@drcc.ca
END:VEVENT
BEGIN:VEVENT
DTSTART;TZID=America/Toronto:20230517T110000
DTEND;TZID=America/Toronto:20230517T120000
DTSTAMP:20260422T071303
CREATED:20230331T162936Z
LAST-MODIFIED:20230331T162936Z
UID:2571-1684321200-1684324800@drcc.ca
SUMMARY:Supporting Survivors Group
DESCRIPTION:The Supporting Survivors group is a drop-in group for anyone who is supporting a survivor of sexual violence\, regardless of gender. This group is not intended for survivors. Supporting Survivors will be a peer-based group where support people can share experiences of what has worked for them\, areas they are struggling with\, and ask questions to the group and make connections with others. This is a supportive\, non-judgmental space which encourages growth and perspective so participants can better support their loved one. Areas of focus in the group will include boundary work and the importance of self-care for the support person. \nPlease note: You must have completed an intake in order to attend the group. \nFor more information about Supporting Survivors or to register\, please contact Michaela at michaela@drcc.ca or call 416-278-9086.
URL:https://drcc.ca/event/supporting-survivors-group-2/
LOCATION:Zoom
END:VEVENT
BEGIN:VEVENT
DTSTART;VALUE=DATE:20230516
DTEND;VALUE=DATE:20230517
DTSTAMP:20260422T071303
CREATED:20230424T145004Z
LAST-MODIFIED:20230424T145007Z
UID:2625-1684195200-1684281599@drcc.ca
SUMMARY:Slices for Survivors
DESCRIPTION:Help us support survivors with… pizza! 🍕 \nWith every purchase of the Family Pizza Night deal at Domino’s\, $5 will be donated to our organization. For $24.99\, you get two medium pizzas with three toppings on each\, as well as a cheesy bread! Upsize to large for $5 more. \nThis fundraiser is taking place all day on  \n\nTuesday May 16th\n at Domino’s in Oshawa: \n\n1900 Simcoe St. N Oshawa\, ON | L1G 4Y3\nFor more information\, please email us at info@drcc.ca \n\n.
URL:https://drcc.ca/event/slices-for-survivors-2/
LOCATION:1900 Simcoe St. N\, Oshawa\, ON\, 1900 Simcoe St. N\, Oshawa\, ON\, L1G 4Y3\, Canada
END:VEVENT
BEGIN:VEVENT
DTSTART;TZID=America/Toronto:20230512T120000
DTEND;TZID=America/Toronto:20230512T130000
DTSTAMP:20260422T071303
CREATED:20230501T135121Z
LAST-MODIFIED:20230501T193010Z
UID:2639-1683892800-1683896400@drcc.ca
SUMMARY:Webinar: Intimate Healing for Survivors of Sexual Violence
DESCRIPTION:Join us for a special webinar on Intimate Healing for Survivors of Sexual Violence\, hosted by the Durham Rape Crisis Centre Public Education Team\, Isabella and Alisha. This webinar is part of Sexual Violence Prevention Month and will take place on Friday May 12th at noon. \nDuring this 30-minute webinar\, we will explore the impacts of sexual violence on intimate relationships and discuss the issues survivors may face when it comes to pleasure experiences. We will also provide strategies for navigating these discomforts and opening a discussion on how trauma impacts pleasure. \nThis presentation is geared towards survivors and professionals working with survivors. There will be a 15-minute Q&A session at the end of the presentation\, where we will answer any questions you may have. \nWe hope you will join us for this important conversation on Intimate Healing for Survivors of Sexual Violence. Remember\, healing is possible\, and you are not alone.
URL:https://drcc.ca/event/webinar-intimate-healing-for-survivors-of-sexual-violence/
LOCATION:Zoom
ORGANIZER;CN="Durham Rape Crisis Centre":MAILTO:info@drcc.ca
END:VEVENT
BEGIN:VEVENT
DTSTART;TZID=America/Toronto:20230425T150000
DTEND;TZID=America/Toronto:20230425T170000
DTSTAMP:20260422T071303
CREATED:20230331T163443Z
LAST-MODIFIED:20230331T163443Z
UID:2581-1682434800-1682442000@drcc.ca
SUMMARY:Survivor's Circle
DESCRIPTION:The Survivor’s Circle is a monthly drop-in group held on Zoom for women 16 years and older. This is an opportunity for women who have experienced any form of sexual violence or trauma to come together and talk about the struggles or issues they deal with as a result. It is also a forum in which they can share experiences and impacts while getting support from other members. There will be some times where we discuss a particular topic\, or it may be open discussion. There does not need to be any previous counselling\, and no commitment to future groups is required. Members may also attend as often as they would like. \nFor more information about the Survivor’s Circle or to register\, please contact Lynn at lynn@drcc.ca or call 647-273-0457.
URL:https://drcc.ca/event/survivors-circle-16/
LOCATION:Zoom
END:VEVENT
BEGIN:VEVENT
DTSTART;TZID=America/Toronto:20230419T110000
DTEND;TZID=America/Toronto:20230419T120000
DTSTAMP:20260422T071303
CREATED:20230331T162811Z
LAST-MODIFIED:20230331T162811Z
UID:2568-1681902000-1681905600@drcc.ca
SUMMARY:Supporting Survivors Group
DESCRIPTION:The Supporting Survivors group is a drop-in group for anyone who is supporting a survivor of sexual violence\, regardless of gender. This group is not intended for survivors. Supporting Survivors will be a peer-based group where support people can share experiences of what has worked for them\, areas they are struggling with\, and ask questions to the group and make connections with others. This is a supportive\, non-judgmental space which encourages growth and perspective so participants can better support their loved one. Areas of focus in the group will include boundary work and the importance of self-care for the support person. \nPlease note: You must have completed an intake in order to attend the group. \nFor more information about Supporting Survivors or to register\, please contact Michaela at michaela@drcc.ca or call 416-278-9086.
URL:https://drcc.ca/event/supporting-survivors-group/
LOCATION:Zoom
END:VEVENT
BEGIN:VEVENT
DTSTART;TZID=America/Toronto:20221208T183000
DTEND;TZID=America/Toronto:20221208T203000
DTSTAMP:20260422T071303
CREATED:20221024T141307Z
LAST-MODIFIED:20221024T141307Z
UID:2255-1670524200-1670531400@drcc.ca
SUMMARY:Breweries Breaking Barriers
DESCRIPTION:Breweries Breaking Barriers is returning this fall for another series of workshops addressing sexual violence in the brewing and beer-serving industries and beyond! We’re planning bigger than before\, and increasing the amount of knowledge at the table. Come prepared to learn how to take that knowledge back to work. Workplace violence is never part of the job. #NoOneAsksForIt \n  \nRegister for Session Four here: https://us06web.zoom.us/webinar/register/WN_R8hnWwl_RwexYb2B7iVySA \n  \nSpecial thanks to our organizing team: \n\nGuelph-Wellington Women in Crisis\nWhite Ribbon\nShape Your Workplace Project\nThe Craft Beer Safety Network\nDurham Rape Crisis Centre\nSexual Assault Support Centre of Waterloo Region\n\n  \n[Alt. Text: White font over a marine-green background that fades to white at bottom. A white text bubble in the centre shows session info in a deep blue font. Six logos appear along the bottom belonging to organizing agencies.] \n  \n#BBB #Ontario #Canada #Brewing #Beer #Hospitality #BelieveSurvivors
URL:https://drcc.ca/event/breweries-breaking-barriers-4/
LOCATION:Zoom
ORGANIZER;CN="Durham Rape Crisis Centre":MAILTO:info@drcc.ca
END:VEVENT
BEGIN:VEVENT
DTSTART;TZID=America/Toronto:20221201T130000
DTEND;TZID=America/Toronto:20221201T150000
DTSTAMP:20260422T071303
CREATED:20221024T140945Z
LAST-MODIFIED:20221024T140945Z
UID:2253-1669899600-1669906800@drcc.ca
SUMMARY:Breweries Breaking Barriers
DESCRIPTION:Breweries Breaking Barriers is returning this fall for another series of workshops addressing sexual violence in the brewing and beer-serving industries and beyond! We’re planning bigger than before\, and increasing the amount of knowledge at the table. Come prepared to learn how to take that knowledge back to work. Workplace violence is never part of the job. #NoOneAsksForIt \n  \nRegister for Session Three here: https://us06web.zoom.us/webinar/register/WN_d5f5dyRJTkO1FxDPjzRrew \n  \nSpecial thanks to our organizing team: \n\nGuelph-Wellington Women in Crisis\nWhite Ribbon\nShape Your Workplace Project\nThe Craft Beer Safety Network\nDurham Rape Crisis Centre\nSexual Assault Support Centre of Waterloo Region\n\n  \n[Alt. Text: White font over a marine-green background that fades to white at bottom. A white text bubble in the centre shows session info in a deep blue font. Six logos appear along the bottom belonging to organizing agencies.] \n  \n#BBB #Ontario #Canada #Brewing #Beer #Hospitality #BelieveSurvivors
URL:https://drcc.ca/event/breweries-breaking-barriers-3/
LOCATION:Zoom
ORGANIZER;CN="Durham Rape Crisis Centre":MAILTO:info@drcc.ca
END:VEVENT
BEGIN:VEVENT
DTSTART;TZID=America/Toronto:20221124T130000
DTEND;TZID=America/Toronto:20221124T150000
DTSTAMP:20260422T071303
CREATED:20221024T140702Z
LAST-MODIFIED:20221024T140702Z
UID:2251-1669294800-1669302000@drcc.ca
SUMMARY:Breweries Breaking Barriers
DESCRIPTION:Breweries Breaking Barriers is returning this fall for another series of workshops addressing sexual violence in the brewing and beer-serving industries and beyond! We’re planning bigger than before\, and increasing the amount of knowledge at the table. Come prepared to learn how to take that knowledge back to work. Workplace violence is never part of the job. #NoOneAsksForIt \n  \nRegister for Session Two here: https://us06web.zoom.us/webinar/register/WN_gHBTlPc1RQSPC0O27kZ4jQ \n  \nSpecial thanks to our organizing team: \n\nGuelph-Wellington Women in Crisis\nWhite Ribbon\nShape Your Workplace Project\nThe Craft Beer Safety Network\nDurham Rape Crisis Centre\nSexual Assault Support Centre of Waterloo Region\n\n  \n[Alt. Text: White font over a marine-green background that fades to white at bottom. A white text bubble in the centre shows session info in a deep blue font. Six logos appear along the bottom belonging to organizing agencies.] \n  \n#BBB #Ontario #Canada #Brewing #Beer #Hospitality #BelieveSurvivors
URL:https://drcc.ca/event/breweries-breaking-barriers-2/
LOCATION:Zoom
ORGANIZER;CN="Durham Rape Crisis Centre":MAILTO:info@drcc.ca
END:VEVENT
BEGIN:VEVENT
DTSTART;TZID=America/Toronto:20221117T093000
DTEND;TZID=America/Toronto:20221117T113000
DTSTAMP:20260422T071303
CREATED:20221024T140318Z
LAST-MODIFIED:20221024T140418Z
UID:2245-1668677400-1668684600@drcc.ca
SUMMARY:Breweries Breaking Barriers
DESCRIPTION:  \nBreweries Breaking Barriers is returning this fall for another series of workshops addressing sexual violence in the brewing and beer-serving industries and beyond! We’re planning bigger than before\, and increasing the amount of knowledge at the table. Come prepared to learn how to take that knowledge back to work. Workplace violence is never part of the job. #NoOneAsksForIt \n  \nRegister for Session One here: https://us06web.zoom.us/webinar/register/WN_N9LA47QTR4-wNUzUEuvTKg \n  \nSpecial thanks to our organizing team: \n\nGuelph-Wellington Women in Crisis\nWhite Ribbon\nShape Your Workplace Project\nThe Craft Beer Safety Network\nDurham Rape Crisis Centre\nSexual Assault Support Centre of Waterloo Region\n\n  \n[Alt. Text: White font over a marine-green background that fades to white at bottom. A white text bubble in the centre shows session info in a deep blue font. Six logos appear along the bottom belonging to organizing agencies.] \n  \n#BBB #Ontario #Canada #Brewing #Beer #Hospitality #BelieveSurvivors
URL:https://drcc.ca/event/breweries-breaking-barriers/
LOCATION:Zoom
ORGANIZER;CN="Durham Rape Crisis Centre":MAILTO:info@drcc.ca
END:VEVENT
BEGIN:VEVENT
DTSTART;VALUE=DATE:20220926
DTEND;VALUE=DATE:20220927
DTSTAMP:20260422T071303
CREATED:20220902T163902Z
LAST-MODIFIED:20220902T164158Z
UID:2191-1664150400-1664236799@drcc.ca
SUMMARY:Slices for Survivors
DESCRIPTION:Help us support survivors with… pizza! 🍕 \nWith every purchase of the Family Pizza Night deal at Domino’s\, $5 will be donated to our organization. For $24.99\, you get two medium pizzas with three toppings on each\, as well as a cheesy bread! Upsize to large for $5 more. \nThis fundraiser is taking place all day on Monday September 26th at Domino’s in Oshawa:\n600 Grandview St. Oshawa\, ON | L1H 8P4 \nFor more information\, please email us atinfo@drcc.ca.
URL:https://drcc.ca/event/slices-for-survivors/
LOCATION:600 Grandview St.\, Oshawa\, ON\, L1H 8P4\, 600 Grandview St.\, Oshawa\, Ontario\, L1H 8P4\, Canada
END:VEVENT
BEGIN:VEVENT
DTSTART;TZID=America/Toronto:20220922T180000
DTEND;TZID=America/Toronto:20220922T203000
DTSTAMP:20260422T071303
CREATED:20220802T131611Z
LAST-MODIFIED:20220902T165854Z
UID:2134-1663869600-1663878600@drcc.ca
SUMMARY:Take Back the Night: Brighter Than Ever
DESCRIPTION:
URL:https://drcc.ca/event/2134/
LOCATION:Lakeview Park\, Oshawa\, 55 Lakeview Park Ave.\, Oshawa\, Ontario\, L1H 8S8\, Canada
END:VEVENT
BEGIN:VEVENT
DTSTART;TZID=America/Toronto:20201029T160000
DTEND;TZID=America/Toronto:20201029T180000
DTSTAMP:20260422T071304
CREATED:20200908T153812Z
LAST-MODIFIED:20200908T153812Z
UID:1773-1603987200-1603994400@drcc.ca
SUMMARY:THERAPEUTIC APPROACH to TRAUMA & PTSD Group
DESCRIPTION:
URL:https://drcc.ca/event/therapeutic-approach-to-trauma-ptsd-group-7/
ORGANIZER;CN="Tanya":MAILTO:tanya@drcc.ca
END:VEVENT
BEGIN:VEVENT
DTSTART;TZID=America/Toronto:20201022T160000
DTEND;TZID=America/Toronto:20201022T180000
DTSTAMP:20260422T071304
CREATED:20200908T153719Z
LAST-MODIFIED:20200908T153719Z
UID:1771-1603382400-1603389600@drcc.ca
SUMMARY:THERAPEUTIC APPROACH to TRAUMA & PTSD Group
DESCRIPTION:
URL:https://drcc.ca/event/therapeutic-approach-to-trauma-ptsd-group-6/
ORGANIZER;CN="Tanya":MAILTO:tanya@drcc.ca
END:VEVENT
BEGIN:VEVENT
DTSTART;TZID=America/Toronto:20201018T100000
DTEND;TZID=America/Toronto:20201018T130000
DTSTAMP:20260422T071304
CREATED:20200511T191810Z
LAST-MODIFIED:20200908T152327Z
UID:1713-1603015200-1603026000@drcc.ca
SUMMARY:Walk for Your Cause!
DESCRIPTION:Walk For YOUR Cause \n \nJoin the Durham Rape Crisis Centre and our partner the Durham Community Foundation as we raise funds to support our organizations. \nPlans are pending as pandemic restrictions evolve.
URL:https://drcc.ca/event/work-for-your-cause/
LOCATION:Deer Creek Golf Club and Banquet Hall\, 2700 Audley Rd\, Ajax\, Ontario\, ON L1Z 1T7\, Canada
END:VEVENT
BEGIN:VEVENT
DTSTART;TZID=America/Toronto:20201015T160000
DTEND;TZID=America/Toronto:20201015T180000
DTSTAMP:20260422T071304
CREATED:20200908T153524Z
LAST-MODIFIED:20200908T153524Z
UID:1767-1602777600-1602784800@drcc.ca
SUMMARY:THERAPEUTIC APPROACH to TRAUMA & PTSD Group
DESCRIPTION:
URL:https://drcc.ca/event/therapeutic-approach-to-trauma-ptsd-group-4/
ORGANIZER;CN="Tanya":MAILTO:tanya@drcc.ca
END:VEVENT
BEGIN:VEVENT
DTSTART;TZID=America/Toronto:20201008T160000
DTEND;TZID=America/Toronto:20201008T180000
DTSTAMP:20260422T071304
CREATED:20200908T153415Z
LAST-MODIFIED:20200908T153415Z
UID:1765-1602172800-1602180000@drcc.ca
SUMMARY:THERAPEUTIC APPROACH to TRAUMA & PTSD Group
DESCRIPTION:
URL:https://drcc.ca/event/therapeutic-approach-to-trauma-ptsd-group-3/
ORGANIZER;CN="Tanya":MAILTO:tanya@drcc.ca
END:VEVENT
BEGIN:VEVENT
DTSTART;TZID=America/Toronto:20201001T160000
DTEND;TZID=America/Toronto:20201001T180000
DTSTAMP:20260422T071304
CREATED:20200908T153315Z
LAST-MODIFIED:20200908T153315Z
UID:1763-1601568000-1601575200@drcc.ca
SUMMARY:THERAPEUTIC APPROACH to TRAUMA & PTSD
DESCRIPTION:
URL:https://drcc.ca/event/therapeutic-approach-to-trauma-ptsd-2/
ORGANIZER;CN="Tanya":MAILTO:tanya@drcc.ca
END:VEVENT
BEGIN:VEVENT
DTSTART;TZID=America/Toronto:20200924T160000
DTEND;TZID=America/Toronto:20200924T180000
DTSTAMP:20260422T071304
CREATED:20200908T153204Z
LAST-MODIFIED:20200908T153204Z
UID:1761-1600963200-1600970400@drcc.ca
SUMMARY:THERAPEUTIC APPROACH to TRAUMA & PTSD
DESCRIPTION:
URL:https://drcc.ca/event/therapeutic-approach-to-trauma-ptsd/
ORGANIZER;CN="Tanya":MAILTO:tanya@drcc.ca
END:VEVENT
BEGIN:VEVENT
DTSTART;TZID=America/Toronto:20200921T183000
DTEND;TZID=America/Toronto:20200921T203000
DTSTAMP:20260422T071304
CREATED:20200908T154141Z
LAST-MODIFIED:20200908T154141Z
UID:1775-1600713000-1600720200@drcc.ca
SUMMARY:Annual General Meeting
DESCRIPTION:Virtually Hosted Via Zoom \nTo REgister Visit: https://drccagm20192020.eventbrite.ca
URL:https://drcc.ca/event/annual-general-meeting-3/
ORGANIZER;CN="Emma Conner":MAILTO:emma@drcc.ca
END:VEVENT
BEGIN:VEVENT
DTSTART;TZID=America/Toronto:20200917T160000
DTEND;TZID=America/Toronto:20200917T180000
DTSTAMP:20260422T071304
CREATED:20200908T153019Z
LAST-MODIFIED:20200908T153019Z
UID:1759-1600358400-1600365600@drcc.ca
SUMMARY:THERAPEUTIC APPROACH to TRAUMA & PTSD Group
DESCRIPTION:
URL:https://drcc.ca/event/therapeutic-approach-to-trauma-ptsd-group-2/
ORGANIZER;CN="Lynn":MAILTO:lynn@drcc.ca
END:VEVENT
BEGIN:VEVENT
DTSTART;TZID=America/Toronto:20200910T160000
DTEND;TZID=America/Toronto:20200910T180000
DTSTAMP:20260422T071304
CREATED:20200908T152907Z
LAST-MODIFIED:20200908T152907Z
UID:1755-1599753600-1599760800@drcc.ca
SUMMARY:Therapeutic Approach to Trauma & PTSD Group
DESCRIPTION:
URL:https://drcc.ca/event/therapeutic-approach-to-trauma-ptsd-group/
ORGANIZER;CN="Lynn":MAILTO:lynn@drcc.ca
END:VEVENT
BEGIN:VEVENT
DTSTART;TZID=America/Toronto:20200728T120000
DTEND;TZID=America/Toronto:20200728T140000
DTSTAMP:20260422T071304
CREATED:20200714T165055Z
LAST-MODIFIED:20200714T165055Z
UID:1736-1595937600-1595944800@drcc.ca
SUMMARY:Stand up to Sexual Harassment\, Free Webinar!
DESCRIPTION:
URL:https://drcc.ca/event/stand-up-to-sexual-harassment-free-webinar/
ORGANIZER;CN="Isabella Giuga":MAILTO:isabella@drcc.ca
END:VEVENT
BEGIN:VEVENT
DTSTART;TZID=America/Toronto:20200723T120000
DTEND;TZID=America/Toronto:20200723T130000
DTSTAMP:20260422T071304
CREATED:20200714T165847Z
LAST-MODIFIED:20200714T165847Z
UID:1747-1595505600-1595509200@drcc.ca
SUMMARY:Body Image and Self-esteem Workshop
DESCRIPTION:
URL:https://drcc.ca/event/body-image-and-self-esteem-workshop/
ORGANIZER;CN="Samantha":MAILTO:samantha@drcc.ca
END:VEVENT
BEGIN:VEVENT
DTSTART;TZID=America/Toronto:20200718T130000
DTEND;TZID=America/Toronto:20200718T140000
DTSTAMP:20260422T071304
CREATED:20200714T165157Z
LAST-MODIFIED:20200714T165157Z
UID:1740-1595077200-1595080800@drcc.ca
SUMMARY:Youth Survivors Circle
DESCRIPTION:
URL:https://drcc.ca/event/youth-survivors-circle/
ORGANIZER;CN="Isabella Giuga":MAILTO:isabella@drcc.ca
END:VEVENT
BEGIN:VEVENT
DTSTART;TZID=America/Toronto:20200715T150000
DTEND;TZID=America/Toronto:20200715T170000
DTSTAMP:20260422T071304
CREATED:20200714T165548Z
LAST-MODIFIED:20200714T165548Z
UID:1742-1594825200-1594832400@drcc.ca
SUMMARY:Survivor's Circle - All Ages
DESCRIPTION:
URL:https://drcc.ca/event/survivors-circle-all-ages/
ORGANIZER;CN="Lynn":MAILTO:lynn@drcc.ca
END:VEVENT
BEGIN:VEVENT
DTSTART;TZID=America/Toronto:20200528T140000
DTEND;TZID=America/Toronto:20200528T153000
DTSTAMP:20260422T071304
CREATED:20200430T202924Z
LAST-MODIFIED:20200506T214049Z
UID:1687-1590674400-1590679800@drcc.ca
SUMMARY:Research Panel Online Webinar Discussion with Academic and Community Experts
DESCRIPTION:To register visit: https://researchpanelsvam.eventbrite.ca \nA flyer for the event with more details will be posted in the near future!  For more information or questions please contact Emma@drcc.ca.
URL:https://drcc.ca/event/research-panel-online-webinar-discussion-with-local-experts/
END:VEVENT
BEGIN:VEVENT
DTSTART;TZID=America/Toronto:20200525T090000
DTEND;TZID=America/Toronto:20200526T121500
DTSTAMP:20260422T071304
CREATED:20200420T193721Z
LAST-MODIFIED:20200420T193721Z
UID:1625-1590397200-1590495300@drcc.ca
SUMMARY:Fundamentals of Somatic Experiencing: A Polyvagal Perspective
DESCRIPTION:FACILITATED BY: SARAH SCHLOTE\, MA\, RP\, CCC\, SEP \nThis two day introductory workshop will provide an understanding of trauma and the nervous system from the perspective of Somatic Experiencing® and the polyvagal theory. Students will learn about the activation cycle\, incomplete self-protective responses\, ways to explore the body’s story with clients\, the importance of tracking states and titration\, and how to begin the process of renegotiating boundaries with clients. The workshop will include a combination of theory and practice\, including lecture\, group discussions\, and hands-on experiential learning. Caveats and ethics around the use of body-oriented activities will also be discussed. This workshop is offered with the license and approval of the Somatic Experiencing® Trauma Institute\, but does not count towards the formal process of training in Somatic Experiencing® \nThis project is supported by the Pilot Fund for Gender Equality\, a collaboration between Community Foundations of Canada and the Equality Fund\, with support from the Government of Canada and Durham Community Foundation. \nFor more info: Somatic Training Zoom
URL:https://drcc.ca/event/fundamentals-of-somatic-experiencing-a-polyvagal-perspective/
ORGANIZER;CN="Emma Conner":MAILTO:emma@drcc.ca
END:VEVENT
BEGIN:VEVENT
DTSTART;TZID=America/Toronto:20200521T140000
DTEND;TZID=America/Toronto:20200521T143000
DTSTAMP:20260422T071304
CREATED:20200430T203010Z
LAST-MODIFIED:20200506T213948Z
UID:1689-1590069600-1590071400@drcc.ca
SUMMARY:Youth Online Panel Discussion
DESCRIPTION:To register please visit: https://youthpaneldiscussionsvam.eventbrite.ca \nMore details will be added as they become available.  If you would like more information or if you have questions please email isabella@drcc.ca.
URL:https://drcc.ca/event/youth-online-panel-discussion/
END:VEVENT
BEGIN:VEVENT
DTSTART;TZID=America/Toronto:20200521T100000
DTEND;TZID=America/Toronto:20200521T110000
DTSTAMP:20260422T071304
CREATED:20200506T144954Z
LAST-MODIFIED:20200506T213921Z
UID:1699-1590055200-1590058800@drcc.ca
SUMMARY:Seniors Panel Webinar
DESCRIPTION:To register visit: https://seniorwebinarpanel.eventbrite.ca \nMore details will be published when they are available.  For more information or questions please email Emma@drcc.ca
URL:https://drcc.ca/event/seniors-panel-webinar/
END:VEVENT
END:VCALENDAR