BEGIN:VCALENDAR
VERSION:2.0
PRODID:-//Durham Rape Crisis Centre - ECPv6.2.8.1//NONSGML v1.0//EN
CALSCALE:GREGORIAN
METHOD:PUBLISH
X-ORIGINAL-URL:https://drcc.ca
X-WR-CALDESC:Events for Durham Rape Crisis Centre
REFRESH-INTERVAL;VALUE=DURATION:PT1H
X-Robots-Tag:noindex
X-PUBLISHED-TTL:PT1H
BEGIN:VTIMEZONE
TZID:America/Toronto
BEGIN:DAYLIGHT
TZOFFSETFROM:-0500
TZOFFSETTO:-0400
TZNAME:EDT
DTSTART:20190310T070000
END:DAYLIGHT
BEGIN:STANDARD
TZOFFSETFROM:-0400
TZOFFSETTO:-0500
TZNAME:EST
DTSTART:20191103T060000
END:STANDARD
BEGIN:DAYLIGHT
TZOFFSETFROM:-0500
TZOFFSETTO:-0400
TZNAME:EDT
DTSTART:20200308T070000
END:DAYLIGHT
BEGIN:STANDARD
TZOFFSETFROM:-0400
TZOFFSETTO:-0500
TZNAME:EST
DTSTART:20201101T060000
END:STANDARD
END:VTIMEZONE
BEGIN:VEVENT
DTSTART;VALUE=DATE:20200501
DTEND;VALUE=DATE:20200601
DTSTAMP:20260422T134316
CREATED:20200430T201730Z
LAST-MODIFIED:20200505T202718Z
UID:1684-1588291200-1590969599@drcc.ca
SUMMARY:Sexual Violence Awareness Month
DESCRIPTION:Sexual Violence Awareness Month (3)
URL:https://drcc.ca/event/sexual-violence-awareness-month/
END:VEVENT
BEGIN:VEVENT
DTSTART;VALUE=DATE:20200501
DTEND;VALUE=DATE:20200502
DTSTAMP:20260422T134316
CREATED:20200424T173335Z
LAST-MODIFIED:20200424T173335Z
UID:1680-1588291200-1588377599@drcc.ca
SUMMARY:Support Sexual Assault Awareness Month! Wear Purple!
DESCRIPTION:
URL:https://drcc.ca/event/support-sexual-assault-awareness-month-wear-purple/
END:VEVENT
BEGIN:VEVENT
DTSTART;TZID=America/Toronto:20200430T160000
DTEND;TZID=America/Toronto:20200430T170000
DTSTAMP:20260422T134316
CREATED:20200424T164228Z
LAST-MODIFIED:20200424T164228Z
UID:1647-1588262400-1588266000@drcc.ca
SUMMARY:Online Yoga Classes for DRCC Clients!
DESCRIPTION:
URL:https://drcc.ca/event/online-yoga-classes-for-drcc-clients-4/
END:VEVENT
BEGIN:VEVENT
DTSTART;TZID=America/Toronto:20200430T140000
DTEND;TZID=America/Toronto:20200430T150000
DTSTAMP:20260422T134316
CREATED:20200424T173011Z
LAST-MODIFIED:20200424T173011Z
UID:1672-1588255200-1588258800@drcc.ca
SUMMARY:Free online Meditation Class for DRCC Clients!
DESCRIPTION:
URL:https://drcc.ca/event/free-online-meditation-class-for-drcc-clients-4/
END:VEVENT
BEGIN:VEVENT
DTSTART;TZID=America/Toronto:20200429T190000
DTEND;TZID=America/Toronto:20200429T200000
DTSTAMP:20260422T134316
CREATED:20200424T172232Z
LAST-MODIFIED:20200424T172232Z
UID:1651-1588186800-1588190400@drcc.ca
SUMMARY:Online Yoga Classes for DRCC Clients!
DESCRIPTION:
URL:https://drcc.ca/event/online-yoga-classes-for-drcc-clients-6/
END:VEVENT
BEGIN:VEVENT
DTSTART;TZID=America/Toronto:20200429T160000
DTEND;TZID=America/Toronto:20200429T170000
DTSTAMP:20260422T134316
CREATED:20200424T164034Z
LAST-MODIFIED:20200424T164034Z
UID:1645-1588176000-1588179600@drcc.ca
SUMMARY:Online Yoga Classes for DRCC Clients!
DESCRIPTION:
URL:https://drcc.ca/event/online-yoga-classes-for-drcc-clients-3/
END:VEVENT
BEGIN:VEVENT
DTSTART;TZID=America/Toronto:20200429T140000
DTEND;TZID=America/Toronto:20200429T150000
DTSTAMP:20260422T134316
CREATED:20200424T172932Z
LAST-MODIFIED:20200424T172932Z
UID:1670-1588168800-1588172400@drcc.ca
SUMMARY:Free online Meditation Class for DRCC Clients!
DESCRIPTION:
URL:https://drcc.ca/event/free-online-meditation-class-for-drcc-clients-3/
END:VEVENT
BEGIN:VEVENT
DTSTART;TZID=America/Toronto:20200428T160000
DTEND;TZID=America/Toronto:20200428T170000
DTSTAMP:20260422T134316
CREATED:20200424T163952Z
LAST-MODIFIED:20200424T163952Z
UID:1643-1588089600-1588093200@drcc.ca
SUMMARY:Online Yoga Classes for DRCC Clients!
DESCRIPTION:
URL:https://drcc.ca/event/online-yoga-classes-for-drcc-clients-2/
END:VEVENT
BEGIN:VEVENT
DTSTART;TZID=America/Toronto:20200428T140000
DTEND;TZID=America/Toronto:20200428T150000
DTSTAMP:20260422T134316
CREATED:20200424T172856Z
LAST-MODIFIED:20200424T172856Z
UID:1668-1588082400-1588086000@drcc.ca
SUMMARY:Free online Meditation Class for DRCC Clients!
DESCRIPTION:
URL:https://drcc.ca/event/free-online-meditation-class-for-drcc-clients-2/
END:VEVENT
BEGIN:VEVENT
DTSTART;TZID=America/Toronto:20200427T190000
DTEND;TZID=America/Toronto:20200427T200000
DTSTAMP:20260422T134316
CREATED:20200424T172150Z
LAST-MODIFIED:20200424T172150Z
UID:1649-1588014000-1588017600@drcc.ca
SUMMARY:Online Yoga Classes for DRCC Clients!
DESCRIPTION:
URL:https://drcc.ca/event/online-yoga-classes-for-drcc-clients-5/
END:VEVENT
BEGIN:VEVENT
DTSTART;TZID=America/Toronto:20200427T160000
DTEND;TZID=America/Toronto:20200427T170000
DTSTAMP:20260422T134316
CREATED:20200424T163815Z
LAST-MODIFIED:20200424T163815Z
UID:1640-1588003200-1588006800@drcc.ca
SUMMARY:Online Yoga Classes for DRCC Clients!
DESCRIPTION:
URL:https://drcc.ca/event/online-yoga-classes-for-drcc-clients/
END:VEVENT
BEGIN:VEVENT
DTSTART;TZID=America/Toronto:20200427T140000
DTEND;TZID=America/Toronto:20200427T150000
DTSTAMP:20260422T134316
CREATED:20200424T172757Z
LAST-MODIFIED:20200424T172817Z
UID:1665-1587996000-1587999600@drcc.ca
SUMMARY:Free online Meditation Class for DRCC Clients!
DESCRIPTION:
URL:https://drcc.ca/event/free-online-meditation-class-for-drcc-clients/
END:VEVENT
BEGIN:VEVENT
DTSTART;TZID=America/Toronto:20200424T130000
DTEND;TZID=America/Toronto:20200424T140000
DTSTAMP:20260422T134316
CREATED:20200420T194123Z
LAST-MODIFIED:20200420T194123Z
UID:1629-1587733200-1587736800@drcc.ca
SUMMARY:Youth Survivors Group: Grounding Techniques Workshop
DESCRIPTION:Join Counsellor Isabella as she leads the DRCC’s Youth Survivors Group in a grounding techniques workshop.  For more info or to register\, e-mail isabella@drcc.ca.
URL:https://drcc.ca/event/youth-survivors-group-grounding-techniques-workshop/
ORGANIZER;CN="Isabella Giuga":MAILTO:isabella@drcc.ca
END:VEVENT
BEGIN:VEVENT
DTSTART;VALUE=DATE:20200420
DTEND;VALUE=DATE:20200425
DTSTAMP:20260422T134316
CREATED:20200424T163132Z
LAST-MODIFIED:20200424T163132Z
UID:1638-1587340800-1587772799@drcc.ca
SUMMARY:Volunteer Appreciation Week!
DESCRIPTION:
URL:https://drcc.ca/event/volunteer-appreciation-week/
END:VEVENT
BEGIN:VEVENT
DTSTART;TZID=America/Toronto:20200312T180000
DTEND;TZID=America/Toronto:20200312T200000
DTSTAMP:20260422T134316
CREATED:20200304T191504Z
LAST-MODIFIED:20200304T191504Z
UID:1600-1584036000-1584043200@drcc.ca
SUMMARY:The Women's Committee of Durham Presents - International Women's Day
DESCRIPTION:The Women’s Committee of Durham Region (WCDR) will be hosting their annual International Women’s Day event on March 12\, 2020 from 6pm-8pm.\n\n\n\n\n\n\nThis event will feature 3 guest speakers who have all dedicated part of their work to supporting and empowering women in Durham Region. Their discussion will explore the struggles they have overcome and accomplishments they have achieved to date.\n\n\nThis event will also showcase a spoken word artist that will close the event with her powerful words about feminism\, empowerment and women’s rights. \nFinally\, the event will have entertainment stations\, such as face painting\, hand massages\, and an art station where attendees will be encouraged to create art that showcases what the word equality means to them. \nIn the spirit of this year’s IWD theme\, “I am Generation Equality: Realizing Women’s Rights”\, the WCDR hopes to highlight some powerful women working in Durham Region and celebrate women’s accomplishments. Additionally\, some local social service agencies will have tables set up around the room so that attendees can learn about some of the resources and supports available to women in Durham Region. \nThis is a free event and children are welcome. There will be refreshments and great company. \nHope to see you there! \n\n\n\n\nhttps://www.eventbrite.ca/e/wcdr-international-womens-day-event-tickets-97888582385
URL:https://drcc.ca/event/the-womens-committee-of-durham-presents-international-womens-day/
END:VEVENT
BEGIN:VEVENT
DTSTART;TZID=America/Toronto:20200312T110000
DTEND;TZID=America/Toronto:20200312T140000
DTSTAMP:20260422T134316
CREATED:20200311T210823Z
LAST-MODIFIED:20200311T210823Z
UID:1606-1584010800-1584021600@drcc.ca
SUMMARY:Ontario Tech University - Bake Sale to Support The Durham Rape Crisis Centre!
DESCRIPTION:
URL:https://drcc.ca/event/ontario-tech-university-bake-sale-to-support-the-durham-rape-crisis-centre/
LOCATION:Ontario Tech University\, 61 Charles Street\, Oshawa\, Ontario\, Canada
END:VEVENT
BEGIN:VEVENT
DTSTART;TZID=America/Toronto:20200308T130000
DTEND;TZID=America/Toronto:20200308T160000
DTSTAMP:20260422T134316
CREATED:20200304T192354Z
LAST-MODIFIED:20200304T192354Z
UID:1603-1583672400-1583683200@drcc.ca
SUMMARY:March - Shop - Support!  International Women's Day 2020!
DESCRIPTION:Join us for International Women’s Day on March 8th!  This year we’re raising money for the DRCC with a March\, Shop and Support event hosted by us and a collection of Women owned local businesses!  Stop by and share the support! \nThe Fundraiser 1:45pm-4:00pm\nMini Market – check out local women owned businesses for some shopping\nSilent Auction – check out local women owned businesses showcasing amazing items to bid on\nAuthor’s Corner – meet local women authors for a book reading and signing with their books for sale\nKids Zone face painting\nAll proceeds will go to the Durham Rape Crisis Centre Oshawa\n\nIf you are unable to attend\, please consider supporting The Durham Rape Crisis Centre\, Oshawa\, with a donation at \nhttps://drcc.ca/about/donations/ \nEVERYONE IS WELCOME!!
URL:https://drcc.ca/event/march-shop-support-international-womens-day-2020/
END:VEVENT
BEGIN:VEVENT
DTSTART;VALUE=DATE:20200218
DTEND;VALUE=DATE:20200219
DTSTAMP:20260422T134316
CREATED:20200213T213204Z
LAST-MODIFIED:20200213T213204Z
UID:1594-1581984000-1582070399@drcc.ca
SUMMARY:Closed for Family Day
DESCRIPTION:Dear Community\, \nOur Office will be closed on Monday Feb. 17th for family day. \nWe hope that you too are able to enjoy the day with your family\, \nSincerely\, \nThe DRCC Staff
URL:https://drcc.ca/event/closed-for-family-day/
END:VEVENT
BEGIN:VEVENT
DTSTART;VALUE=DATE:20191224
DTEND;VALUE=DATE:20200102
DTSTAMP:20260422T134316
CREATED:20191203T201148Z
LAST-MODIFIED:20191203T201148Z
UID:1584-1577145600-1577923199@drcc.ca
SUMMARY:Office is Closed for the Holidays
DESCRIPTION:
URL:https://drcc.ca/event/office-is-closed-for-the-holidays/
END:VEVENT
BEGIN:VEVENT
DTSTART;TZID=America/Toronto:20191119T180000
DTEND;TZID=America/Toronto:20191119T200000
DTSTAMP:20260422T134316
CREATED:20191010T175345Z
LAST-MODIFIED:20191010T175345Z
UID:1572-1574186400-1574193600@drcc.ca
SUMMARY:Mindful Yoga and Meditation Workshop
DESCRIPTION:Join us for an evening of mindful meditation and yoga. Learn to create a daily yoga practice that can help you to relax\, reduce stress and gain a sense of calm. \nFor Women who wish to explore mindfulness and stress reduction through yoga postures\, working with your breath and guided mindful practices. \nNo previous experience is required. Physical modifications for poses can be provided. Space is limited. R.S.V.P. by November 4th 2019 \nMindful Yoga and Meditation Workshop (3)
URL:https://drcc.ca/event/mindful-yoga-and-meditation-workshop-3/
ORGANIZER;CN="Rochelle Johnson":MAILTO:rochelle@drcc.ca
END:VEVENT
BEGIN:VEVENT
DTSTART;TZID=America/Toronto:20191118T183000
DTEND;TZID=America/Toronto:20191118T203000
DTSTAMP:20260422T134316
CREATED:20181221T153955Z
LAST-MODIFIED:20181221T153955Z
UID:1494-1574101800-1574109000@drcc.ca
SUMMARY:Board Meeting
DESCRIPTION:
URL:https://drcc.ca/event/board-meeting-13/
END:VEVENT
BEGIN:VEVENT
DTSTART;TZID=America/Toronto:20191028T183000
DTEND;TZID=America/Toronto:20191028T203000
DTSTAMP:20260422T134316
CREATED:20181221T153909Z
LAST-MODIFIED:20181221T153909Z
UID:1492-1572287400-1572294600@drcc.ca
SUMMARY:Board Meeting
DESCRIPTION:
URL:https://drcc.ca/event/board-meeting-12/
END:VEVENT
BEGIN:VEVENT
DTSTART;TZID=America/Toronto:20190919T180000
DTEND;TZID=America/Toronto:20190919T210000
DTSTAMP:20260422T134316
CREATED:20190813T174550Z
LAST-MODIFIED:20190813T174550Z
UID:1529-1568916000-1568926800@drcc.ca
SUMMARY:Take Back The Night
DESCRIPTION:The Durham Rape Crisis Centre Presents the 27th Annual Take Back The Night \nJoin us in the fight to end violence against women and children! \nFeaturing:  Survivor Speakers\, Entertainment\, Refreshments and the Annual Walk Through Downtown Oshawa
URL:https://drcc.ca/event/take-back-the-night-2/
LOCATION:YWCA Durham\, 1 McGrigor Street\, Oshawa\, Ontario\, Canada
END:VEVENT
BEGIN:VEVENT
DTSTART;TZID=America/Toronto:20190909T183000
DTEND;TZID=America/Toronto:20190909T203000
DTSTAMP:20260422T134316
CREATED:20181221T153833Z
LAST-MODIFIED:20181221T153833Z
UID:1490-1568053800-1568061000@drcc.ca
SUMMARY:Annual General Meeting
DESCRIPTION:
URL:https://drcc.ca/event/annual-general-meeting-2/
END:VEVENT
BEGIN:VEVENT
DTSTART;TZID=America/Toronto:20190819T183000
DTEND;TZID=America/Toronto:20190819T203000
DTSTAMP:20260422T134316
CREATED:20181221T153308Z
LAST-MODIFIED:20181221T153308Z
UID:1488-1566239400-1566246600@drcc.ca
SUMMARY:Board Meeting
DESCRIPTION:
URL:https://drcc.ca/event/board-meeting-11/
END:VEVENT
BEGIN:VEVENT
DTSTART;TZID=America/Toronto:20190729T183000
DTEND;TZID=America/Toronto:20190729T203000
DTSTAMP:20260422T134316
CREATED:20181221T153225Z
LAST-MODIFIED:20181221T153225Z
UID:1486-1564425000-1564432200@drcc.ca
SUMMARY:Board Meeting
DESCRIPTION:
URL:https://drcc.ca/event/board-meeting-10/
END:VEVENT
BEGIN:VEVENT
DTSTART;TZID=America/Toronto:20190617T183000
DTEND;TZID=America/Toronto:20190617T203000
DTSTAMP:20260422T134316
CREATED:20181221T153154Z
LAST-MODIFIED:20181221T153154Z
UID:1484-1560796200-1560803400@drcc.ca
SUMMARY:Board Meeting
DESCRIPTION:
URL:https://drcc.ca/event/board-meeting-9/
END:VEVENT
BEGIN:VEVENT
DTSTART;TZID=America/Toronto:20190613T140000
DTEND;TZID=America/Toronto:20190613T160000
DTSTAMP:20260422T134316
CREATED:20190530T151116Z
LAST-MODIFIED:20190530T151116Z
UID:1517-1560434400-1560441600@drcc.ca
SUMMARY:Survivor's Circle
DESCRIPTION:
URL:https://drcc.ca/event/survivors-circle-15/
END:VEVENT
BEGIN:VEVENT
DTSTART;TZID=America/Toronto:20190527T183000
DTEND;TZID=America/Toronto:20190527T203000
DTSTAMP:20260422T134316
CREATED:20181221T153118Z
LAST-MODIFIED:20181221T153118Z
UID:1482-1558981800-1558989000@drcc.ca
SUMMARY:Board Meeting
DESCRIPTION:
URL:https://drcc.ca/event/board-meeting-8/
END:VEVENT
BEGIN:VEVENT
DTSTART;TZID=America/Toronto:20190526T100000
DTEND;TZID=America/Toronto:20190526T140000
DTSTAMP:20260422T134316
CREATED:20190307T201310Z
LAST-MODIFIED:20191203T201010Z
UID:1509-1558864800-1558879200@drcc.ca
SUMMARY:4th Annual Steps for Suvivors
DESCRIPTION:Walk\, Run\, Roll or Stroll in Support of Survivors \n2k or 5k \nRegistration is $20 – Register at 10:00am \nWalk + Lunch at 11 am – 2pm \n 
URL:https://drcc.ca/event/4th-annual-steps-for-suvivors/
LOCATION:Rotary Park\, 177 Lake Driveway W\, Ajax\, Ontario\, L1S 7J1\, Canada
END:VEVENT
END:VCALENDAR