BEGIN:VCALENDAR
VERSION:2.0
PRODID:-//Durham Rape Crisis Centre - ECPv6.2.8.1//NONSGML v1.0//EN
CALSCALE:GREGORIAN
METHOD:PUBLISH
X-WR-CALNAME:Durham Rape Crisis Centre
X-ORIGINAL-URL:https://drcc.ca
X-WR-CALDESC:Events for Durham Rape Crisis Centre
REFRESH-INTERVAL;VALUE=DURATION:PT1H
X-Robots-Tag:noindex
X-PUBLISHED-TTL:PT1H
BEGIN:VTIMEZONE
TZID:America/Toronto
BEGIN:DAYLIGHT
TZOFFSETFROM:-0500
TZOFFSETTO:-0400
TZNAME:EDT
DTSTART:20180311T070000
END:DAYLIGHT
BEGIN:STANDARD
TZOFFSETFROM:-0400
TZOFFSETTO:-0500
TZNAME:EST
DTSTART:20181104T060000
END:STANDARD
BEGIN:DAYLIGHT
TZOFFSETFROM:-0500
TZOFFSETTO:-0400
TZNAME:EDT
DTSTART:20190310T070000
END:DAYLIGHT
BEGIN:STANDARD
TZOFFSETFROM:-0400
TZOFFSETTO:-0500
TZNAME:EST
DTSTART:20191103T060000
END:STANDARD
END:VTIMEZONE
BEGIN:VEVENT
DTSTART;TZID=America/Toronto:20191118T183000
DTEND;TZID=America/Toronto:20191118T203000
DTSTAMP:20260422T165426
CREATED:20181221T153955Z
LAST-MODIFIED:20181221T153955Z
UID:1494-1574101800-1574109000@drcc.ca
SUMMARY:Board Meeting
DESCRIPTION:
URL:https://drcc.ca/event/board-meeting-13/
END:VEVENT
BEGIN:VEVENT
DTSTART;TZID=America/Toronto:20191028T183000
DTEND;TZID=America/Toronto:20191028T203000
DTSTAMP:20260422T165426
CREATED:20181221T153909Z
LAST-MODIFIED:20181221T153909Z
UID:1492-1572287400-1572294600@drcc.ca
SUMMARY:Board Meeting
DESCRIPTION:
URL:https://drcc.ca/event/board-meeting-12/
END:VEVENT
BEGIN:VEVENT
DTSTART;TZID=America/Toronto:20190919T180000
DTEND;TZID=America/Toronto:20190919T210000
DTSTAMP:20260422T165426
CREATED:20190813T174550Z
LAST-MODIFIED:20190813T174550Z
UID:1529-1568916000-1568926800@drcc.ca
SUMMARY:Take Back The Night
DESCRIPTION:The Durham Rape Crisis Centre Presents the 27th Annual Take Back The Night \nJoin us in the fight to end violence against women and children! \nFeaturing:  Survivor Speakers\, Entertainment\, Refreshments and the Annual Walk Through Downtown Oshawa
URL:https://drcc.ca/event/take-back-the-night-2/
LOCATION:YWCA Durham\, 1 McGrigor Street\, Oshawa\, Ontario\, Canada
END:VEVENT
BEGIN:VEVENT
DTSTART;TZID=America/Toronto:20190909T183000
DTEND;TZID=America/Toronto:20190909T203000
DTSTAMP:20260422T165426
CREATED:20181221T153833Z
LAST-MODIFIED:20181221T153833Z
UID:1490-1568053800-1568061000@drcc.ca
SUMMARY:Annual General Meeting
DESCRIPTION:
URL:https://drcc.ca/event/annual-general-meeting-2/
END:VEVENT
BEGIN:VEVENT
DTSTART;TZID=America/Toronto:20190819T183000
DTEND;TZID=America/Toronto:20190819T203000
DTSTAMP:20260422T165426
CREATED:20181221T153308Z
LAST-MODIFIED:20181221T153308Z
UID:1488-1566239400-1566246600@drcc.ca
SUMMARY:Board Meeting
DESCRIPTION:
URL:https://drcc.ca/event/board-meeting-11/
END:VEVENT
BEGIN:VEVENT
DTSTART;TZID=America/Toronto:20190729T183000
DTEND;TZID=America/Toronto:20190729T203000
DTSTAMP:20260422T165426
CREATED:20181221T153225Z
LAST-MODIFIED:20181221T153225Z
UID:1486-1564425000-1564432200@drcc.ca
SUMMARY:Board Meeting
DESCRIPTION:
URL:https://drcc.ca/event/board-meeting-10/
END:VEVENT
BEGIN:VEVENT
DTSTART;TZID=America/Toronto:20190617T183000
DTEND;TZID=America/Toronto:20190617T203000
DTSTAMP:20260422T165426
CREATED:20181221T153154Z
LAST-MODIFIED:20181221T153154Z
UID:1484-1560796200-1560803400@drcc.ca
SUMMARY:Board Meeting
DESCRIPTION:
URL:https://drcc.ca/event/board-meeting-9/
END:VEVENT
BEGIN:VEVENT
DTSTART;TZID=America/Toronto:20190613T140000
DTEND;TZID=America/Toronto:20190613T160000
DTSTAMP:20260422T165426
CREATED:20190530T151116Z
LAST-MODIFIED:20190530T151116Z
UID:1517-1560434400-1560441600@drcc.ca
SUMMARY:Survivor's Circle
DESCRIPTION:
URL:https://drcc.ca/event/survivors-circle-15/
END:VEVENT
BEGIN:VEVENT
DTSTART;TZID=America/Toronto:20190527T183000
DTEND;TZID=America/Toronto:20190527T203000
DTSTAMP:20260422T165426
CREATED:20181221T153118Z
LAST-MODIFIED:20181221T153118Z
UID:1482-1558981800-1558989000@drcc.ca
SUMMARY:Board Meeting
DESCRIPTION:
URL:https://drcc.ca/event/board-meeting-8/
END:VEVENT
BEGIN:VEVENT
DTSTART;TZID=America/Toronto:20190526T100000
DTEND;TZID=America/Toronto:20190526T140000
DTSTAMP:20260422T165426
CREATED:20190307T201310Z
LAST-MODIFIED:20191203T201010Z
UID:1509-1558864800-1558879200@drcc.ca
SUMMARY:4th Annual Steps for Suvivors
DESCRIPTION:Walk\, Run\, Roll or Stroll in Support of Survivors \n2k or 5k \nRegistration is $20 – Register at 10:00am \nWalk + Lunch at 11 am – 2pm \n 
URL:https://drcc.ca/event/4th-annual-steps-for-suvivors/
LOCATION:Rotary Park\, 177 Lake Driveway W\, Ajax\, Ontario\, L1S 7J1\, Canada
END:VEVENT
BEGIN:VEVENT
DTSTART;TZID=America/Toronto:20190429T183000
DTEND;TZID=America/Toronto:20190429T203000
DTSTAMP:20260422T165426
CREATED:20181221T153037Z
LAST-MODIFIED:20181221T153037Z
UID:1480-1556562600-1556569800@drcc.ca
SUMMARY:Board Meeting
DESCRIPTION:
URL:https://drcc.ca/event/board-meeting-7/
END:VEVENT
BEGIN:VEVENT
DTSTART;TZID=America/Toronto:20190318T183000
DTEND;TZID=America/Toronto:20190318T203000
DTSTAMP:20260422T165426
CREATED:20181221T152949Z
LAST-MODIFIED:20181221T152949Z
UID:1478-1552933800-1552941000@drcc.ca
SUMMARY:Board Meeting
DESCRIPTION:
URL:https://drcc.ca/event/board-meeting-6/
END:VEVENT
BEGIN:VEVENT
DTSTART;TZID=America/Toronto:20190314T140000
DTEND;TZID=America/Toronto:20190314T160000
DTSTAMP:20260422T165426
CREATED:20190307T200044Z
LAST-MODIFIED:20190307T200044Z
UID:1507-1552572000-1552579200@drcc.ca
SUMMARY:Survivor's Circle
DESCRIPTION:
URL:https://drcc.ca/event/survivors-circle-14/
END:VEVENT
BEGIN:VEVENT
DTSTART;TZID=America/Toronto:20190226T180000
DTEND;TZID=America/Toronto:20190226T200000
DTSTAMP:20260422T165426
CREATED:20190207T200409Z
LAST-MODIFIED:20190207T200409Z
UID:1504-1551204000-1551211200@drcc.ca
SUMMARY:Mindful Yoga and Meditation Workshop
DESCRIPTION:This workshop is designed for anyone who wishes to reduce daily stress and anxiety.  In this workshop we will explore the mind body connection and how to work with your breath to create a mindful practice. \nNo previous experience necessary\, instruction will be given. \nFor information about this workshop please contact Michaela at michaela@drcc.ca
URL:https://drcc.ca/event/mindful-yoga-and-meditation-workshop-2/
END:VEVENT
BEGIN:VEVENT
DTSTART;TZID=America/Toronto:20190225T183000
DTEND;TZID=America/Toronto:20190225T203000
DTSTAMP:20260422T165426
CREATED:20181221T152912Z
LAST-MODIFIED:20181221T152912Z
UID:1476-1551119400-1551126600@drcc.ca
SUMMARY:Board Meeting
DESCRIPTION:
URL:https://drcc.ca/event/board-meeting-5/
END:VEVENT
BEGIN:VEVENT
DTSTART;TZID=America/Toronto:20190213T180000
DTEND;TZID=America/Toronto:20190213T210000
DTSTAMP:20260422T165426
CREATED:20190130T185402Z
LAST-MODIFIED:20190130T185402Z
UID:1501-1550080800-1550091600@drcc.ca
SUMMARY:7th Annual Murdered and Missing Aboriginal Women Walk Durham Region
DESCRIPTION:Please join us for our Annual Walk located at 1 McGrigor Street\, Oshawa (YWCA Early Years Centre) \nCandlelight vigil and food \nAll My Relations Metis hand drummers along with guest speaker Gloria Ann \nSilent Auction/Fundraiser \nLooking for volunteers\, donations for silent auction\, entertainers\, red dresses to be hung in Memorial Park. \nPlease contact Miranda Bouchard for information or to make donations at 905-914-4669 or email be-you@live.ca
URL:https://drcc.ca/event/7th-annual-murdered-and-missing-aboriginal-women-walk-durham-region/
LOCATION:YWCA Durham\, 1 McGrigor Street\, Oshawa\, Ontario\, Canada
END:VEVENT
BEGIN:VEVENT
DTSTART;TZID=America/Toronto:20190128T183000
DTEND;TZID=America/Toronto:20190128T203000
DTSTAMP:20260422T165426
CREATED:20181221T152729Z
LAST-MODIFIED:20181221T152729Z
UID:1474-1548700200-1548707400@drcc.ca
SUMMARY:Board Meeting
DESCRIPTION:
URL:https://drcc.ca/event/board-meeting-4/
END:VEVENT
BEGIN:VEVENT
DTSTART;TZID=America/Toronto:20190123T140000
DTEND;TZID=America/Toronto:20190123T160000
DTSTAMP:20260422T165426
CREATED:20190109T160755Z
LAST-MODIFIED:20190109T160755Z
UID:1497-1548252000-1548259200@drcc.ca
SUMMARY:Survivor's Circle
DESCRIPTION:Do you want to connect with\, support and be supported by other survivor’s? \nPlease join us in our survivor supporting survivor drop in where we’ll discuss topics that are important in your daily lives. \nWednesday January 23rd from 2-4pm \nPlease note space is limited – RSVP by Friday January 18th to Lynn at 905-444-9672 x23 or email lynn@drcc.ca
URL:https://drcc.ca/event/survivors-circle-13/
END:VEVENT
BEGIN:VEVENT
DTSTART;TZID=America/Toronto:20190110T130000
DTEND;TZID=America/Toronto:20190110T160000
DTSTAMP:20260422T165426
CREATED:20181221T152647Z
LAST-MODIFIED:20181221T152647Z
UID:1472-1547125200-1547136000@drcc.ca
SUMMARY:Mala Making Workshop
DESCRIPTION:New Year\, New Intentions. \nJoin the staff at DRCC for a fun afternoon of mala making.  Learn about the significance of Mala’s and create a unique piece that reflects who you are and what you hope for. \nPlease register with Michaela ASAP as space is limited.  Call Michaela at 905 444-9672 x 25 or email michaela@drcc.ca
URL:https://drcc.ca/event/mala-making-workshop/
END:VEVENT
BEGIN:VEVENT
DTSTART;VALUE=DATE:20190101
DTEND;VALUE=DATE:20190102
DTSTAMP:20260422T165426
CREATED:20181129T150524Z
LAST-MODIFIED:20181129T150524Z
UID:1463-1546300800-1546387199@drcc.ca
SUMMARY:Office Closed
DESCRIPTION:
URL:https://drcc.ca/event/office-closed-7/
END:VEVENT
BEGIN:VEVENT
DTSTART;VALUE=DATE:20181231
DTEND;VALUE=DATE:20190101
DTSTAMP:20260422T165426
CREATED:20181129T150455Z
LAST-MODIFIED:20181129T150455Z
UID:1461-1546214400-1546300799@drcc.ca
SUMMARY:Office Closed
DESCRIPTION:
URL:https://drcc.ca/event/office-closed-6/
END:VEVENT
BEGIN:VEVENT
DTSTART;VALUE=DATE:20181230
DTEND;VALUE=DATE:20181231
DTSTAMP:20260422T165426
CREATED:20181129T150706Z
LAST-MODIFIED:20181129T150706Z
UID:1467-1546128000-1546214399@drcc.ca
SUMMARY:Office Closed
DESCRIPTION:
URL:https://drcc.ca/event/office-closed-9/
END:VEVENT
BEGIN:VEVENT
DTSTART;VALUE=DATE:20181229
DTEND;VALUE=DATE:20181230
DTSTAMP:20260422T165426
CREATED:20181129T150637Z
LAST-MODIFIED:20181129T150637Z
UID:1465-1546041600-1546127999@drcc.ca
SUMMARY:Office Closed
DESCRIPTION:
URL:https://drcc.ca/event/office-closed-8/
END:VEVENT
BEGIN:VEVENT
DTSTART;VALUE=DATE:20181228
DTEND;VALUE=DATE:20181229
DTSTAMP:20260422T165426
CREATED:20181129T150418Z
LAST-MODIFIED:20181129T150418Z
UID:1459-1545955200-1546041599@drcc.ca
SUMMARY:Office Closed
DESCRIPTION:
URL:https://drcc.ca/event/office-closed-5/
END:VEVENT
BEGIN:VEVENT
DTSTART;VALUE=DATE:20181227
DTEND;VALUE=DATE:20181228
DTSTAMP:20260422T165426
CREATED:20181129T150350Z
LAST-MODIFIED:20181129T150350Z
UID:1456-1545868800-1545955199@drcc.ca
SUMMARY:Office Closed
DESCRIPTION:
URL:https://drcc.ca/event/office-closed-4/
END:VEVENT
BEGIN:VEVENT
DTSTART;VALUE=DATE:20181226
DTEND;VALUE=DATE:20181227
DTSTAMP:20260422T165426
CREATED:20181129T150308Z
LAST-MODIFIED:20181129T150308Z
UID:1454-1545782400-1545868799@drcc.ca
SUMMARY:Office Closed
DESCRIPTION:
URL:https://drcc.ca/event/office-closed-3/
END:VEVENT
BEGIN:VEVENT
DTSTART;VALUE=DATE:20181225
DTEND;VALUE=DATE:20181226
DTSTAMP:20260422T165426
CREATED:20181129T150243Z
LAST-MODIFIED:20181129T150243Z
UID:1452-1545696000-1545782399@drcc.ca
SUMMARY:Office Closed
DESCRIPTION:
URL:https://drcc.ca/event/office-closed-2/
END:VEVENT
BEGIN:VEVENT
DTSTART;TZID=America/Toronto:20181224T130000
DTEND;TZID=America/Toronto:20181224T170000
DTSTAMP:20260422T165426
CREATED:20181129T150211Z
LAST-MODIFIED:20181129T150826Z
UID:1450-1545656400-1545670800@drcc.ca
SUMMARY:Office Closed at 1:00pm
DESCRIPTION:Please note that our office will be closed from 1:00 pm Monday December 24\, 2018 and reopening on Wednesday January 2\, 2019 at 9:00 am
URL:https://drcc.ca/event/office-closed/
END:VEVENT
BEGIN:VEVENT
DTSTART;TZID=America/Toronto:20181212T140000
DTEND;TZID=America/Toronto:20181212T160000
DTSTAMP:20260422T165426
CREATED:20181129T145929Z
LAST-MODIFIED:20181129T145929Z
UID:1448-1544623200-1544630400@drcc.ca
SUMMARY:Survivor's Circle
DESCRIPTION:Do you want to connect with\, support and be supported by other survivor’s? \nPlease join us in our survivor supporting survivor drop in where we’ll discuss topics that are important in your daily lives. \nPlease note that space is limited.  RSVP to Lynn at lynn@drcc.ca or (905) 444-9672 ext 23 no later than Friday December 7th. \n 
URL:https://drcc.ca/event/survivors-circle-12/
END:VEVENT
BEGIN:VEVENT
DTSTART;TZID=America/Toronto:20181119T183000
DTEND;TZID=America/Toronto:20181119T210000
DTSTAMP:20260422T165426
CREATED:20180606T190930Z
LAST-MODIFIED:20180606T190930Z
UID:1382-1542652200-1542661200@drcc.ca
SUMMARY:Meeting of the Board of Directors
DESCRIPTION:
URL:https://drcc.ca/event/meeting-of-the-board-of-directors-6/
END:VEVENT
END:VCALENDAR