BEGIN:VCALENDAR
VERSION:2.0
PRODID:-//Durham Rape Crisis Centre - ECPv6.2.8.1//NONSGML v1.0//EN
CALSCALE:GREGORIAN
METHOD:PUBLISH
X-ORIGINAL-URL:https://drcc.ca
X-WR-CALDESC:Events for Durham Rape Crisis Centre
REFRESH-INTERVAL;VALUE=DURATION:PT1H
X-Robots-Tag:noindex
X-PUBLISHED-TTL:PT1H
BEGIN:VTIMEZONE
TZID:America/Toronto
BEGIN:DAYLIGHT
TZOFFSETFROM:-0500
TZOFFSETTO:-0400
TZNAME:EDT
DTSTART:20170312T070000
END:DAYLIGHT
BEGIN:STANDARD
TZOFFSETFROM:-0400
TZOFFSETTO:-0500
TZNAME:EST
DTSTART:20171105T060000
END:STANDARD
BEGIN:DAYLIGHT
TZOFFSETFROM:-0500
TZOFFSETTO:-0400
TZNAME:EDT
DTSTART:20180311T070000
END:DAYLIGHT
BEGIN:STANDARD
TZOFFSETFROM:-0400
TZOFFSETTO:-0500
TZNAME:EST
DTSTART:20181104T060000
END:STANDARD
END:VTIMEZONE
BEGIN:VEVENT
DTSTART;TZID=America/Toronto:20180809T120000
DTEND;TZID=America/Toronto:20180809T140000
DTSTAMP:20260422T234336
CREATED:20180713T160435Z
LAST-MODIFIED:20180713T160435Z
UID:1393-1533816000-1533823200@drcc.ca
SUMMARY:Art Therapy Group
DESCRIPTION:This is the third week for the closed group for female-identified survivors of sexual violence who would like the opportunity to express themselves through art.  We will explore the topics of safety\, trust\, control\, and self-esteem.  You do not need any artistic skills or experience to participate.
URL:https://drcc.ca/event/art-therapy-group-3/
LOCATION:Ontario
END:VEVENT
BEGIN:VEVENT
DTSTART;TZID=America/Toronto:20180802T140000
DTEND;TZID=America/Toronto:20180802T160000
DTSTAMP:20260422T234336
CREATED:20180713T154249Z
LAST-MODIFIED:20180713T154801Z
UID:1385-1533218400-1533225600@drcc.ca
SUMMARY:Survivor's Circle
DESCRIPTION:Do you want to connect with\, support and be supported by other survivors? \nPlease join us in our survivor supporting survivor drop in where we’ll discuss topics that are important in your daily lives. \nPlease RSVP to Lynn at lynn@drcc.ca or call 905 444-9672 x23 no later than Friday July 27th.
URL:https://drcc.ca/event/survivors-circle-10/
LOCATION:Ontario
END:VEVENT
BEGIN:VEVENT
DTSTART;TZID=America/Toronto:20180802T120000
DTEND;TZID=America/Toronto:20180802T140000
DTSTAMP:20260422T234336
CREATED:20180713T160218Z
LAST-MODIFIED:20180713T160341Z
UID:1390-1533211200-1533218400@drcc.ca
SUMMARY:Art Therapy Group
DESCRIPTION:This is the second week for the closed group for female-identified survivors of sexual violence who would like the opportunity to express themselves through art.  We will explore the topics of safety\, trust\, control\, and self-esteem.  You do not need any artistic skills or experience to participate.
URL:https://drcc.ca/event/art-therapy-group-2/
LOCATION:Ontario
END:VEVENT
BEGIN:VEVENT
DTSTART;TZID=America/Toronto:20180730T183000
DTEND;TZID=America/Toronto:20180730T210000
DTSTAMP:20260422T234336
CREATED:20180606T190641Z
LAST-MODIFIED:20180713T155930Z
UID:1374-1532975400-1532984400@drcc.ca
SUMMARY:Meeting of the Board of Directors
DESCRIPTION:
URL:https://drcc.ca/event/meeting-of-the-board-of-directors-3/
LOCATION:Ontario
END:VEVENT
BEGIN:VEVENT
DTSTART;TZID=America/Toronto:20180726T120000
DTEND;TZID=America/Toronto:20180726T140000
DTSTAMP:20260422T234336
CREATED:20180713T154734Z
LAST-MODIFIED:20180713T154734Z
UID:1387-1532606400-1532613600@drcc.ca
SUMMARY:Art Therapy Group
DESCRIPTION:This is a 5-week closed group for female-identified survivors of sexual violence who would like the opportunity to express themselves through art.  We will explore the topics of safety\, trust\, control\, and self-esteem.  You do not need any artistic skills or experience to participate.  Space is limited to 10 women. \nTo register or for more information\, please contact Naeema Hashmani at naeema@drcc.ca or call 905 444-9672 x22
URL:https://drcc.ca/event/art-therapy-group/
LOCATION:Ontario
END:VEVENT
BEGIN:VEVENT
DTSTART;TZID=America/Toronto:20180621T140000
DTEND;TZID=America/Toronto:20180621T160000
DTSTAMP:20260422T234336
CREATED:20180606T190314Z
LAST-MODIFIED:20180606T190314Z
UID:1368-1529589600-1529596800@drcc.ca
SUMMARY:Survivor's Circle
DESCRIPTION:Do you want to connect with\, support or be supported by other survivors? \nPlease join us in our survivor supporting survivor drop in where we’ll discuss topics that are important in our daily lives. \nPlease RSVP by Friday June 15th to Lynn at lynn@drcc.ca or call 905 444-9672 x23
URL:https://drcc.ca/event/survivors-circle-9/
LOCATION:Ontario
END:VEVENT
BEGIN:VEVENT
DTSTART;TZID=America/Toronto:20180618T183000
DTEND;TZID=America/Toronto:20180618T210000
DTSTAMP:20260422T234336
CREATED:20180606T190550Z
LAST-MODIFIED:20180606T190550Z
UID:1372-1529346600-1529355600@drcc.ca
SUMMARY:Meeting of the Board of Directors
DESCRIPTION:
URL:https://drcc.ca/event/meeting-of-the-board-of-directors-2/
LOCATION:Ontario
END:VEVENT
BEGIN:VEVENT
DTSTART;TZID=America/Toronto:20180612T180000
DTEND;TZID=America/Toronto:20180612T200000
DTSTAMP:20260422T234336
CREATED:20180517T194824Z
LAST-MODIFIED:20180517T194824Z
UID:1347-1528826400-1528833600@drcc.ca
SUMMARY:Mindful Yoga and Meditation Workshop
DESCRIPTION:Join us for mindful yoga and meditation! Learn how to create a daily practice of gentle yoga\, focus and mindfulness\, and learn about the mind-body connection.  Using these tools can help you to relax\, reduce stress and gain a sense of calm.  This workshop is designed for anyone who wishes to explore yoga\, mindfulness and stress reduction through yoga postures\, working with your breath and guided mindful practices.  No previous experience is necessary. \nPlease contact Rochelle in order to register by June 5th as space is limited at 905 444-9672 x28 or email rochelle@drcc.ca \n 
URL:https://drcc.ca/event/mindful-yoga-and-meditation-workshop/
LOCATION:Ontario
END:VEVENT
BEGIN:VEVENT
DTSTART;TZID=America/Toronto:20180527T100000
DTEND;TZID=America/Toronto:20180527T140000
DTSTAMP:20260422T234336
CREATED:20180320T173148Z
LAST-MODIFIED:20180418T160126Z
UID:1330-1527415200-1527429600@drcc.ca
SUMMARY:3rd Annual Steps for Survivors Walk/Run
DESCRIPTION:WALK\, RUN\, ROLL or STROLL in Support of Survivors – 2k or 5k\nThe Durham Rape Crisis Centre’s 3rd Annual Steps for Survivors Walk/Run is being held on Sunday May 27th\, 2018 at Rotary Park 177 Lake Driveway West\, Ajax ON L1S 7J1. \n$20 Registration Fee (online or day of in person) \nONLINE at https://www.canadahelps.org/en/charities/durham-rape-crisis-centre/p2p/stepsforsurvivors2018/ \nRegistration opens at 10am followed by the Walk then Lunch from 11-2pm \nPledge form: pledge form \nfor more information please contact Sarah Thorne at sarah@drcc.ca or call 905 444-9672 x27
URL:https://drcc.ca/event/3rd-annual-steps-survivors-walk-run/
LOCATION:Rotary Park\, 177 Lake Driveway W\, Ajax\, Ontario\, L1S 7J1\, Canada
END:VEVENT
BEGIN:VEVENT
DTSTART;TZID=America/Toronto:20180509T170000
DTEND;TZID=America/Toronto:20180509T190000
DTSTAMP:20260422T234336
CREATED:20180418T154809Z
LAST-MODIFIED:20180418T194144Z
UID:1335-1525885200-1525892400@drcc.ca
SUMMARY:Survivor's Circle
DESCRIPTION:Do you want to connect with\, support and be supported by other survivor’s? \nPlease join us in our survivor supporting survivor drop in where we’ll discuss topics that are important in your daily lives. \nRSVP by Friday May 4 to Lynn at 905 444-9672 x 23 or  lynn@drcc.ca \n 
URL:https://drcc.ca/event/survivors-circle-8/
LOCATION:Ontario
END:VEVENT
BEGIN:VEVENT
DTSTART;TZID=America/Toronto:20180430T183000
DTEND;TZID=America/Toronto:20180430T203000
DTSTAMP:20260422T234336
CREATED:20180418T155731Z
LAST-MODIFIED:20180418T155731Z
UID:1337-1525113000-1525120200@drcc.ca
SUMMARY:Meeting of the Board of Directors
DESCRIPTION:
URL:https://drcc.ca/event/meeting-of-the-board-of-directors/
LOCATION:Ontario
END:VEVENT
BEGIN:VEVENT
DTSTART;TZID=America/Toronto:20180410T180000
DTEND;TZID=America/Toronto:20180410T200000
DTSTAMP:20260422T234336
CREATED:20180320T172325Z
LAST-MODIFIED:20180320T172325Z
UID:1327-1523383200-1523390400@drcc.ca
SUMMARY:Mindful Yoga and Meditation Workshop
DESCRIPTION:Join us for an evening of mindful meditation and yoga.  Learn to create a daily practice of gentle yoga\, focus\, and mindfulness\, which can help you to relax\, reduce stress and gain a sense of calm.  We will also learn about the mind-body connection. \nThis workshop is designed for anyone who wishes to explore mindfulness and stress reduction through yoga postures\, working with your breath and guided mindful practices.  No previous experience is necessary\, and instruction will be given. \nPlease contact Rochelle to register as space is limited at rochelle@drcc.ca or call 905 444-9672 x28
URL:https://drcc.ca/event/mindful-yoga-meditation-workshop-3/
LOCATION:Ontario
END:VEVENT
BEGIN:VEVENT
DTSTART;TZID=America/Toronto:20180405T140000
DTEND;TZID=America/Toronto:20180405T160000
DTSTAMP:20260422T234336
CREATED:20180320T171831Z
LAST-MODIFIED:20180320T171831Z
UID:1325-1522936800-1522944000@drcc.ca
SUMMARY:Survivors Circle
DESCRIPTION:Do you want to connect with\, support and be supported by other survivor’s? \nPlease join us in our survivor supporting survivor drop in where we’ll discuss topics that are important in your daily lives. \nRSVP to Lynn at lynn@drcc.ca\, or call 905 444-9672 x23
URL:https://drcc.ca/event/survivors-circle-7/
LOCATION:Ontario
END:VEVENT
BEGIN:VEVENT
DTSTART;TZID=America/Toronto:20180328T130000
DTEND;TZID=America/Toronto:20180328T150000
DTSTAMP:20260422T234336
CREATED:20180320T171541Z
LAST-MODIFIED:20180320T171610Z
UID:1321-1522242000-1522249200@drcc.ca
SUMMARY:Workshop on Massage Therapy
DESCRIPTION:Learn about and experience Massage Therapy with a Registered Massage Therapist (RMT) \nTopics Include: \n\nAn introduction to massage\nBenefits and goals of treatment\nClient rights\, Consent\, Draping\, Sensitivity\nEmotional release and self-care\nSelf-soothing and touch\n\nSpace is limited to 8 women. \nTo register or for more information please contact: \nNaeema Hashmani\, M. Ed\, Adult Counsellor at DRCC 905 444-9672 x 22 or emailnaeema@drcc.ca
URL:https://drcc.ca/event/workshop-massage-therapy/
LOCATION:Ontario
END:VEVENT
BEGIN:VEVENT
DTSTART;TZID=America/Toronto:20180319T183000
DTEND;TZID=America/Toronto:20180319T203000
DTSTAMP:20260422T234336
CREATED:20180109T202046Z
LAST-MODIFIED:20180109T202046Z
UID:1280-1521484200-1521491400@drcc.ca
SUMMARY:Board Meeting
DESCRIPTION:Meeting of the Board of Directors
URL:https://drcc.ca/event/board-meeting-3/
LOCATION:Ontario
END:VEVENT
BEGIN:VEVENT
DTSTART;TZID=America/Toronto:20180228T140000
DTEND;TZID=America/Toronto:20180228T160000
DTSTAMP:20260422T234336
CREATED:20180209T160038Z
LAST-MODIFIED:20180209T160457Z
UID:1303-1519826400-1519833600@drcc.ca
SUMMARY:Survivor's Circle
DESCRIPTION:Do you want to connect with support and be supported by other survivor’s? \nPlease join us in our survivor supporting survivor drop in where we’ll discuss topics that are important in your daily lives. \nRSVP by Friday February 23rd to Lynn at 905 444-9672 x 23 or email lynn@drcc.ca
URL:https://drcc.ca/event/survivors-circle-6/
LOCATION:Ontario
END:VEVENT
BEGIN:VEVENT
DTSTART;TZID=America/Toronto:20180226T183000
DTEND;TZID=America/Toronto:20180226T203000
DTSTAMP:20260422T234336
CREATED:20180109T201928Z
LAST-MODIFIED:20180109T201928Z
UID:1278-1519669800-1519677000@drcc.ca
SUMMARY:Board Meeting
DESCRIPTION:Meeting of the Board of Directors
URL:https://drcc.ca/event/board-meeting-2/
LOCATION:Ontario
END:VEVENT
BEGIN:VEVENT
DTSTART;TZID=America/Toronto:20180219T080000
DTEND;TZID=America/Toronto:20180219T170000
DTSTAMP:20260422T234336
CREATED:20180130T202258Z
LAST-MODIFIED:20180130T202258Z
UID:1295-1519027200-1519059600@drcc.ca
SUMMARY:Family Day - Office Closed
DESCRIPTION:Please note that our offices will be closed on February 19th for Family Day.
URL:https://drcc.ca/event/family-day-office-closed/
LOCATION:Ontario
END:VEVENT
BEGIN:VEVENT
DTSTART;TZID=America/Toronto:20180213T180000
DTEND;TZID=America/Toronto:20180213T200000
DTSTAMP:20260422T234336
CREATED:20180109T201717Z
LAST-MODIFIED:20180209T160423Z
UID:1276-1518544800-1518552000@drcc.ca
SUMMARY:Mindful Yoga and Meditation Workshop
DESCRIPTION:Join us for an evening of mindful meditation and yoga.  Learn to create a daily practice of gentle yoga\, focus\, and mindfulness\, which can help you to relax\, reduce stress and gain a sense of calm.  We will also learn about the mind-body connection.  This workshop is designed for anyone who wishes to explore mindfulness and stress reduction through yoga postures\, working with your breath and guided mindful practices.  No previous experience is necessary\, and instruction will be given. \nWhere:  DRCC  Cost:  Free \nTo register or for more information\, please contact Rochelle at 905 444-9672 x28 or email rochelle@drcc.ca
URL:https://drcc.ca/event/mindful-yoga-meditation-workshop-2/
LOCATION:Ontario
END:VEVENT
BEGIN:VEVENT
DTSTART;VALUE=DATE:20180201
DTEND;VALUE=DATE:20180202
DTSTAMP:20260422T234336
CREATED:20180206T180707Z
LAST-MODIFIED:20180206T180751Z
UID:1300-1517443200-1517529599@drcc.ca
SUMMARY:Black History Month
DESCRIPTION:During the entire month of February\, we celebrate Black History Month.\n A History:\nBlack History month is celebrated in Canada\, as well as the United States and is celebrated in the United Kingdom and Netherlands in October. Carter G. Woodson\, a Harvard educated African American historian\, advocated to have a  period of time to recognize the accomplishments and history of African Americans across the nation. This began with Negro History Week\, which was first celebrated in 1926\, and later renamed Black History Week in the 1970s. In 1976\, February became recognized as Black History month. February was chosen as it was the birth month of two significant figures in history: Frederick Douglass and Abraham Lincoln. In 1995\, the Canadian House of Commons recognized February as Black History month\, after the motion was introduced by the Honourable Jean Augustine; the first Black Canadian Woman to be elected to Parliament.
URL:https://drcc.ca/event/black-history-month/
LOCATION:Ontario
END:VEVENT
BEGIN:VEVENT
DTSTART;TZID=America/Toronto:20180125T140000
DTEND;TZID=America/Toronto:20180125T160000
DTSTAMP:20260422T234336
CREATED:20180111T214421Z
LAST-MODIFIED:20180111T214440Z
UID:1288-1516888800-1516896000@drcc.ca
SUMMARY:Survivor's Circle
DESCRIPTION:Do you want to connect with\, support and be supported by other survivor’s? \nPlease join us in our survivor supporting survivor drop in where we’ll discuss topics that are important in your daily lives. \nThursday January 25th from 2pm – 4 pm \nRSVP by:  Friday January 19th to Lynn at 905 444-9672 x 23 or email lynn@drcc.ca
URL:https://drcc.ca/event/survivors-circle-5/
LOCATION:Ontario
END:VEVENT
BEGIN:VEVENT
DTSTART;TZID=America/Toronto:20180122T183000
DTEND;TZID=America/Toronto:20180122T203000
DTSTAMP:20260422T234336
CREATED:20171206T212927Z
LAST-MODIFIED:20180109T201830Z
UID:1272-1516645800-1516653000@drcc.ca
SUMMARY:Board Meeting
DESCRIPTION:Meeting of the Board of Directors
URL:https://drcc.ca/event/board-meeting/
LOCATION:Ontario
END:VEVENT
BEGIN:VEVENT
DTSTART;VALUE=DATE:20180101
DTEND;VALUE=DATE:20180102
DTSTAMP:20260422T234336
CREATED:20171206T212519Z
LAST-MODIFIED:20171206T212519Z
UID:1266-1514764800-1514851199@drcc.ca
SUMMARY:Office Is Closed (Call 24 Hour Crisis and Support Line 905 668-9200)
DESCRIPTION:The Durham Rape Crisis Centre will be closed from Monday January 1st\, 2018. \nIf you need to speak with someone please call our 24 Hour Crisis and Support Line at 905 668-9200.
URL:https://drcc.ca/event/office-closed-call-24-hour-crisis-support-line-905-668-9200-5/
LOCATION:Ontario
END:VEVENT
BEGIN:VEVENT
DTSTART;VALUE=DATE:20171231
DTEND;VALUE=DATE:20180101
DTSTAMP:20260422T234336
CREATED:20171206T212833Z
LAST-MODIFIED:20171206T213012Z
UID:1270-1514678400-1514764799@drcc.ca
SUMMARY:Office Is Closed (Call 24 Hour Crisis and Support Line 905 668-9200)
DESCRIPTION:The Durham Rape Crisis Centre will be closed from Sunday December 31st. \nIf you need to speak with someone please call our 24 Hour Crisis and Support Line at 905 668-9200.
URL:https://drcc.ca/event/office-closed-call-24-hour-crisis-support-line-905-668-9200-7/
LOCATION:Ontario
END:VEVENT
BEGIN:VEVENT
DTSTART;VALUE=DATE:20171230
DTEND;VALUE=DATE:20171231
DTSTAMP:20260422T234336
CREATED:20171206T212747Z
LAST-MODIFIED:20171206T212747Z
UID:1268-1514592000-1514678399@drcc.ca
SUMMARY:Office Is Closed (Call 24 Hour Crisis and Support Line 905 668-9200)
DESCRIPTION:The Durham Rape Crisis Centre will be closed from Saturday December 30th. \nIf you need to speak with someone please call our 24 Hour Crisis and Support Line at 905 668-9200.
URL:https://drcc.ca/event/office-closed-call-24-hour-crisis-support-line-905-668-9200-6/
LOCATION:Ontario
END:VEVENT
BEGIN:VEVENT
DTSTART;VALUE=DATE:20171229
DTEND;VALUE=DATE:20171230
DTSTAMP:20260422T234336
CREATED:20171206T212413Z
LAST-MODIFIED:20171206T212413Z
UID:1264-1514505600-1514591999@drcc.ca
SUMMARY:Office Is Closed (Call 24 Hour Crisis and Support Line 905-668-9200)
DESCRIPTION:The Durham Rape Crisis Centre will be closed from Friday December 29th. \nIf you need to speak with someone please call our 24 Hour Crisis and Support Line at 905 668-9200.
URL:https://drcc.ca/event/office-closed-call-24-hour-crisis-support-line-905-668-9200-4/
LOCATION:Ontario
END:VEVENT
BEGIN:VEVENT
DTSTART;VALUE=DATE:20171228
DTEND;VALUE=DATE:20171229
DTSTAMP:20260422T234336
CREATED:20171206T212310Z
LAST-MODIFIED:20171206T212310Z
UID:1262-1514419200-1514505599@drcc.ca
SUMMARY:Office Is Closed (Call 24 Hour Crisis and Support Line 905 668-9200)
DESCRIPTION:The Durham Rape Crisis Centre will be closed from Thursday December 28th. \nIf you need to speak with someone please call our 24 Hour Crisis and Support Line at 905 668-9200.
URL:https://drcc.ca/event/office-closed-call-24-hour-crisis-support-line-905-668-9200-3/
LOCATION:Ontario
END:VEVENT
BEGIN:VEVENT
DTSTART;VALUE=DATE:20171227
DTEND;VALUE=DATE:20171228
DTSTAMP:20260422T234336
CREATED:20171206T212207Z
LAST-MODIFIED:20171206T212207Z
UID:1260-1514332800-1514419199@drcc.ca
SUMMARY:Office Is Closed (Call 24 Hour Crisis and Support Line 905 668-9200)
DESCRIPTION:The Durham Rape Crisis Centre will be closed from Wednesday December 27th. \nIf you need to speak with someone please call our 24 Hour Crisis and Support Line at 905 668-9200.
URL:https://drcc.ca/event/office-closed-call-24-hour-crisis-support-line-905-668-9200-2/
LOCATION:Ontario
END:VEVENT
BEGIN:VEVENT
DTSTART;VALUE=DATE:20171226
DTEND;VALUE=DATE:20171227
DTSTAMP:20260422T234336
CREATED:20171206T211741Z
LAST-MODIFIED:20171206T211833Z
UID:1255-1514246400-1514332799@drcc.ca
SUMMARY:Office Is Closed (Call 24 hour Crisis and Support Line 905 668-9200)
DESCRIPTION:The Durham Rape Crisis Centre will be closed Tuesday December 26th. \nIf you need to speak with someone please call our 24 Hour Crisis and Support Line at 905 668-9200.
URL:https://drcc.ca/event/office-closed-call-24-hour-crisis-support-line-905-668-9200/
LOCATION:Ontario
END:VEVENT
BEGIN:VEVENT
DTSTART;VALUE=DATE:20171225
DTEND;VALUE=DATE:20171226
DTSTAMP:20260422T234336
CREATED:20171206T211446Z
LAST-MODIFIED:20171206T212047Z
UID:1253-1514160000-1514246399@drcc.ca
SUMMARY:Office Is Closed (Call 24 Hour Crisis and Support Line 905-668-9200)
DESCRIPTION:The Durham Rape Crisis Centre will be closed from Monday December 25th. \nIf you need to speak with someone please call our 24 Hour Crisis and Support Line at 905 668-9200.
URL:https://drcc.ca/event/office-is-closed/
LOCATION:Ontario
END:VEVENT
END:VCALENDAR