BEGIN:VCALENDAR
VERSION:2.0
PRODID:-//Durham Rape Crisis Centre - ECPv6.2.8.1//NONSGML v1.0//EN
CALSCALE:GREGORIAN
METHOD:PUBLISH
X-WR-CALNAME:Durham Rape Crisis Centre
X-ORIGINAL-URL:https://drcc.ca
X-WR-CALDESC:Events for Durham Rape Crisis Centre
REFRESH-INTERVAL;VALUE=DURATION:PT1H
X-Robots-Tag:noindex
X-PUBLISHED-TTL:PT1H
BEGIN:VTIMEZONE
TZID:America/Toronto
BEGIN:DAYLIGHT
TZOFFSETFROM:-0500
TZOFFSETTO:-0400
TZNAME:EDT
DTSTART:20170312T070000
END:DAYLIGHT
BEGIN:STANDARD
TZOFFSETFROM:-0400
TZOFFSETTO:-0500
TZNAME:EST
DTSTART:20171105T060000
END:STANDARD
BEGIN:DAYLIGHT
TZOFFSETFROM:-0500
TZOFFSETTO:-0400
TZNAME:EDT
DTSTART:20180311T070000
END:DAYLIGHT
BEGIN:STANDARD
TZOFFSETFROM:-0400
TZOFFSETTO:-0500
TZNAME:EST
DTSTART:20181104T060000
END:STANDARD
END:VTIMEZONE
BEGIN:VEVENT
DTSTART;TZID=America/Toronto:20180125T140000
DTEND;TZID=America/Toronto:20180125T160000
DTSTAMP:20260423T031128
CREATED:20180111T214421Z
LAST-MODIFIED:20180111T214440Z
UID:1288-1516888800-1516896000@drcc.ca
SUMMARY:Survivor's Circle
DESCRIPTION:Do you want to connect with\, support and be supported by other survivor’s? \nPlease join us in our survivor supporting survivor drop in where we’ll discuss topics that are important in your daily lives. \nThursday January 25th from 2pm – 4 pm \nRSVP by:  Friday January 19th to Lynn at 905 444-9672 x 23 or email lynn@drcc.ca
URL:https://drcc.ca/event/survivors-circle-5/
END:VEVENT
BEGIN:VEVENT
DTSTART;TZID=America/Toronto:20180122T183000
DTEND;TZID=America/Toronto:20180122T203000
DTSTAMP:20260423T031128
CREATED:20171206T212927Z
LAST-MODIFIED:20180109T201830Z
UID:1272-1516645800-1516653000@drcc.ca
SUMMARY:Board Meeting
DESCRIPTION:Meeting of the Board of Directors
URL:https://drcc.ca/event/board-meeting/
END:VEVENT
BEGIN:VEVENT
DTSTART;VALUE=DATE:20180101
DTEND;VALUE=DATE:20180102
DTSTAMP:20260423T031128
CREATED:20171206T212519Z
LAST-MODIFIED:20171206T212519Z
UID:1266-1514764800-1514851199@drcc.ca
SUMMARY:Office Is Closed (Call 24 Hour Crisis and Support Line 905 668-9200)
DESCRIPTION:The Durham Rape Crisis Centre will be closed from Monday January 1st\, 2018. \nIf you need to speak with someone please call our 24 Hour Crisis and Support Line at 905 668-9200.
URL:https://drcc.ca/event/office-closed-call-24-hour-crisis-support-line-905-668-9200-5/
END:VEVENT
BEGIN:VEVENT
DTSTART;VALUE=DATE:20171231
DTEND;VALUE=DATE:20180101
DTSTAMP:20260423T031128
CREATED:20171206T212833Z
LAST-MODIFIED:20171206T213012Z
UID:1270-1514678400-1514764799@drcc.ca
SUMMARY:Office Is Closed (Call 24 Hour Crisis and Support Line 905 668-9200)
DESCRIPTION:The Durham Rape Crisis Centre will be closed from Sunday December 31st. \nIf you need to speak with someone please call our 24 Hour Crisis and Support Line at 905 668-9200.
URL:https://drcc.ca/event/office-closed-call-24-hour-crisis-support-line-905-668-9200-7/
END:VEVENT
BEGIN:VEVENT
DTSTART;VALUE=DATE:20171230
DTEND;VALUE=DATE:20171231
DTSTAMP:20260423T031128
CREATED:20171206T212747Z
LAST-MODIFIED:20171206T212747Z
UID:1268-1514592000-1514678399@drcc.ca
SUMMARY:Office Is Closed (Call 24 Hour Crisis and Support Line 905 668-9200)
DESCRIPTION:The Durham Rape Crisis Centre will be closed from Saturday December 30th. \nIf you need to speak with someone please call our 24 Hour Crisis and Support Line at 905 668-9200.
URL:https://drcc.ca/event/office-closed-call-24-hour-crisis-support-line-905-668-9200-6/
END:VEVENT
BEGIN:VEVENT
DTSTART;VALUE=DATE:20171229
DTEND;VALUE=DATE:20171230
DTSTAMP:20260423T031128
CREATED:20171206T212413Z
LAST-MODIFIED:20171206T212413Z
UID:1264-1514505600-1514591999@drcc.ca
SUMMARY:Office Is Closed (Call 24 Hour Crisis and Support Line 905-668-9200)
DESCRIPTION:The Durham Rape Crisis Centre will be closed from Friday December 29th. \nIf you need to speak with someone please call our 24 Hour Crisis and Support Line at 905 668-9200.
URL:https://drcc.ca/event/office-closed-call-24-hour-crisis-support-line-905-668-9200-4/
END:VEVENT
BEGIN:VEVENT
DTSTART;VALUE=DATE:20171228
DTEND;VALUE=DATE:20171229
DTSTAMP:20260423T031128
CREATED:20171206T212310Z
LAST-MODIFIED:20171206T212310Z
UID:1262-1514419200-1514505599@drcc.ca
SUMMARY:Office Is Closed (Call 24 Hour Crisis and Support Line 905 668-9200)
DESCRIPTION:The Durham Rape Crisis Centre will be closed from Thursday December 28th. \nIf you need to speak with someone please call our 24 Hour Crisis and Support Line at 905 668-9200.
URL:https://drcc.ca/event/office-closed-call-24-hour-crisis-support-line-905-668-9200-3/
END:VEVENT
BEGIN:VEVENT
DTSTART;VALUE=DATE:20171227
DTEND;VALUE=DATE:20171228
DTSTAMP:20260423T031128
CREATED:20171206T212207Z
LAST-MODIFIED:20171206T212207Z
UID:1260-1514332800-1514419199@drcc.ca
SUMMARY:Office Is Closed (Call 24 Hour Crisis and Support Line 905 668-9200)
DESCRIPTION:The Durham Rape Crisis Centre will be closed from Wednesday December 27th. \nIf you need to speak with someone please call our 24 Hour Crisis and Support Line at 905 668-9200.
URL:https://drcc.ca/event/office-closed-call-24-hour-crisis-support-line-905-668-9200-2/
END:VEVENT
BEGIN:VEVENT
DTSTART;VALUE=DATE:20171226
DTEND;VALUE=DATE:20171227
DTSTAMP:20260423T031128
CREATED:20171206T211741Z
LAST-MODIFIED:20171206T211833Z
UID:1255-1514246400-1514332799@drcc.ca
SUMMARY:Office Is Closed (Call 24 hour Crisis and Support Line 905 668-9200)
DESCRIPTION:The Durham Rape Crisis Centre will be closed Tuesday December 26th. \nIf you need to speak with someone please call our 24 Hour Crisis and Support Line at 905 668-9200.
URL:https://drcc.ca/event/office-closed-call-24-hour-crisis-support-line-905-668-9200/
END:VEVENT
BEGIN:VEVENT
DTSTART;VALUE=DATE:20171225
DTEND;VALUE=DATE:20171226
DTSTAMP:20260423T031128
CREATED:20171206T211446Z
LAST-MODIFIED:20171206T212047Z
UID:1253-1514160000-1514246399@drcc.ca
SUMMARY:Office Is Closed (Call 24 Hour Crisis and Support Line 905-668-9200)
DESCRIPTION:The Durham Rape Crisis Centre will be closed from Monday December 25th. \nIf you need to speak with someone please call our 24 Hour Crisis and Support Line at 905 668-9200.
URL:https://drcc.ca/event/office-is-closed/
END:VEVENT
BEGIN:VEVENT
DTSTART;TZID=America/Toronto:20171220T140000
DTEND;TZID=America/Toronto:20171220T160000
DTSTAMP:20260423T031128
CREATED:20171206T211104Z
LAST-MODIFIED:20171206T211227Z
UID:1248-1513778400-1513785600@drcc.ca
SUMMARY:Survivor's Circle
DESCRIPTION:Do you wan to connect with\, support and be supported by other survivors? \nPlease join us in our survivor supporting survivor drop in where we’ll discuss topics that are important in your daily lives. \nRSVP by Friday December 15\, 2017 to lynn@drcc.ca or call 905 444-9672 ext 23 \n  \n 
URL:https://drcc.ca/event/survivors-circle-4/
END:VEVENT
BEGIN:VEVENT
DTSTART;TZID=America/Toronto:20171213T180000
DTEND;TZID=America/Toronto:20171213T200000
DTSTAMP:20260423T031128
CREATED:20170901T135703Z
LAST-MODIFIED:20170901T135703Z
UID:1165-1513188000-1513195200@drcc.ca
SUMMARY:Group Art Therapy
DESCRIPTION:This is an 8-week closed group for survivors of sexual violence and would like the opportunity to express themselves through art.  We will explore the topics of safety\, trust\, control and self-esteem. You do not have to have any artistic skills or experience to participate.  Space is limited to 10 participants. \nWhere:  Durham Rape Crisis Centre \nTo register or for more information\, please contact: \nNaeema Hashmani\, M. Ed.\, Adult Counsellor\, 905 444-9672 ext 22 naeema@drcc.ca
URL:https://drcc.ca/event/group-art-therapy-8/
END:VEVENT
BEGIN:VEVENT
DTSTART;TZID=America/Toronto:20171206T180000
DTEND;TZID=America/Toronto:20171206T200000
DTSTAMP:20260423T031128
CREATED:20170901T135604Z
LAST-MODIFIED:20170901T135616Z
UID:1163-1512583200-1512590400@drcc.ca
SUMMARY:Group Art Therapy
DESCRIPTION:This is an 8-week closed group for survivors of sexual violence and would like the opportunity to express themselves through art.  We will explore the topics of safety\, trust\, control and self-esteem. You do not have to have any artistic skills or experience to participate.  Space is limited to 10 participants. \nWhere:  Durham Rape Crisis Centre \nTo register or for more information\, please contact: \nNaeema Hashmani\, M. Ed.\, Adult Counsellor\, 905 444-9672 ext 22 naeema@drcc.ca
URL:https://drcc.ca/event/group-art-therapy-7/
END:VEVENT
BEGIN:VEVENT
DTSTART;VALUE=DATE:20171206
DTEND;VALUE=DATE:20171207
DTSTAMP:20260423T031128
CREATED:20171102T181545Z
LAST-MODIFIED:20171102T181657Z
UID:1232-1512518400-1512604799@drcc.ca
SUMMARY:Remembrance Day for Violence Against Women
DESCRIPTION:December 6 is the National Day of Remembrance and Action on Violence Against Women
URL:https://drcc.ca/event/remembrance-day-voilence-women/
END:VEVENT
BEGIN:VEVENT
DTSTART;VALUE=DATE:20171130
DTEND;VALUE=DATE:20171201
DTSTAMP:20260423T031128
CREATED:20170906T190931Z
LAST-MODIFIED:20170906T190931Z
UID:1193-1512000000-1512086399@drcc.ca
SUMMARY:Volunteer Training
DESCRIPTION:Women over the age of 18 are invited to participate in our Volunteer Crisis Line Training Program. The program runs for 10 consecutive weeks and volunteers who successfully complete the volunteer Crisis Line training program have the opportunity to volunteer their services on our 24/7 Crisis Line\, assist with groups\, public education and accompaniment. \nThis training is currently underway.  Our next training will be scheduled in the spring.
URL:https://drcc.ca/event/volunteer-training-11/
END:VEVENT
BEGIN:VEVENT
DTSTART;TZID=America/Toronto:20171129T180000
DTEND;TZID=America/Toronto:20171129T200000
DTSTAMP:20260423T031128
CREATED:20170901T135511Z
LAST-MODIFIED:20170901T140007Z
UID:1160-1511978400-1511985600@drcc.ca
SUMMARY:Group Art Therapy
DESCRIPTION:This is an 8-week closed group for survivors of sexual violence and would like the opportunity to express themselves through art.  We will explore the topics of safety\, trust\, control and self-esteem. You do not have to have any artistic skills or experience to participate.  Space is limited to 10 participants. \nWhere:  Durham Rape Crisis Centre \nTo register or for more information\, please contact: \nNaeema Hashmani\, M. Ed.\, Adult Counsellor\, 905 444-9672 ext 22 naeema@drcc.ca
URL:https://drcc.ca/event/group-art-therapy-6/
END:VEVENT
BEGIN:VEVENT
DTSTART;VALUE=DATE:20171123
DTEND;VALUE=DATE:20171124
DTSTAMP:20260423T031128
CREATED:20170906T190850Z
LAST-MODIFIED:20170906T190850Z
UID:1191-1511395200-1511481599@drcc.ca
SUMMARY:Volunteer Training
DESCRIPTION:Women over the age of 18 are invited to participate in our Volunteer Crisis Line Training Program. The program runs for 10 consecutive weeks and volunteers who successfully complete the volunteer Crisis Line training program have the opportunity to volunteer their services on our 24/7 Crisis Line\, assist with groups\, public education and accompaniment. \nThis training is currently underway.  Our next training will be scheduled in the spring.
URL:https://drcc.ca/event/volunteer-training-10/
END:VEVENT
BEGIN:VEVENT
DTSTART;TZID=America/Toronto:20171122T180000
DTEND;TZID=America/Toronto:20171122T200000
DTSTAMP:20260423T031128
CREATED:20170901T135433Z
LAST-MODIFIED:20170901T135940Z
UID:1158-1511373600-1511380800@drcc.ca
SUMMARY:Group Art Therapy
DESCRIPTION:This is an 8-week closed group for survivors of sexual violence and would like the opportunity to express themselves through art.  We will explore the topics of safety\, trust\, control and self-esteem. You do not have to have any artistic skills or experience to participate.  Space is limited to 10 participants. \nWhere:  Durham Rape Crisis Centre \nTo register or for more information\, please contact: \nNaeema Hashmani\, M. Ed.\, Adult Counsellor\, 905 444-9672 ext 22 naeema@drcc.ca
URL:https://drcc.ca/event/group-art-therapy-5/
END:VEVENT
BEGIN:VEVENT
DTSTART;VALUE=DATE:20171116
DTEND;VALUE=DATE:20171117
DTSTAMP:20260423T031128
CREATED:20170906T190811Z
LAST-MODIFIED:20170906T190811Z
UID:1189-1510790400-1510876799@drcc.ca
SUMMARY:Volunteer Training
DESCRIPTION:Women over the age of 18 are invited to participate in our Volunteer Crisis Line Training Program. The program runs for 10 consecutive weeks and volunteers who successfully complete the volunteer Crisis Line training program have the opportunity to volunteer their services on our 24/7 Crisis Line\, assist with groups\, public education and accompaniment. \nThis training is currently underway.  Our next training will be scheduled in the spring.
URL:https://drcc.ca/event/volunteer-training-9/
END:VEVENT
BEGIN:VEVENT
DTSTART;TZID=America/Toronto:20171115T180000
DTEND;TZID=America/Toronto:20171115T200000
DTSTAMP:20260423T031128
CREATED:20170901T135242Z
LAST-MODIFIED:20170901T135914Z
UID:1155-1510768800-1510776000@drcc.ca
SUMMARY:Group Art Therapy
DESCRIPTION:This is an 8-week closed group for survivors of sexual violence and would like the opportunity to express themselves through art.  We will explore the topics of safety\, trust\, control and self-esteem. You do not have to have any artistic skills or experience to participate.  Space is limited to 10 participants. \nWhere:  Durham Rape Crisis Centre \nTo register or for more information\, please contact: \nNaeema Hashmani\, M. Ed.\, Adult Counsellor\, 905 444-9672 ext 22 naeema@drcc.ca
URL:https://drcc.ca/event/group-art-therapy-4/
END:VEVENT
BEGIN:VEVENT
DTSTART;TZID=America/Toronto:20171114T180000
DTEND;TZID=America/Toronto:20171114T200000
DTSTAMP:20260423T031128
CREATED:20170928T162030Z
LAST-MODIFIED:20170928T162105Z
UID:1218-1510682400-1510689600@drcc.ca
SUMMARY:Mindful Yoga and Meditation Workshop
DESCRIPTION:Join us for an evening of mindful meditation and yoga.  Learn to create a daily practice of gentle yoga\, focus\, and mindfulness\, which can help you to relax\, reduce stress and gain a sense of calm. We will also learn about the mind-body connection. \nThis workshop is designed for anyone who wishes to explore mindfulness and stress reduction through yoga postures\, working with your breath and guided mindful practices.  No previous experience is necessary\, and instruction will be given. \nCost is Free \nTo register or for more information\, please contact:  Rochelle at 905 444-9672 ext 28 or email rochelle@drcc.ca
URL:https://drcc.ca/event/mindful-yoga-meditation-workshop/
END:VEVENT
BEGIN:VEVENT
DTSTART;VALUE=DATE:20171109
DTEND;VALUE=DATE:20171110
DTSTAMP:20260423T031128
CREATED:20170906T190725Z
LAST-MODIFIED:20170906T190725Z
UID:1187-1510185600-1510271999@drcc.ca
SUMMARY:Volunteer Training
DESCRIPTION:Women over the age of 18 are invited to participate in our Volunteer Crisis Line Training Program. The program runs for 10 consecutive weeks and volunteers who successfully complete the volunteer Crisis Line training program have the opportunity to volunteer their services on our 24/7 Crisis Line\, assist with groups\, public education and accompaniment. \nThis training is currently underway.  Our next training will be scheduled in the spring.
URL:https://drcc.ca/event/volunteer-training-8/
END:VEVENT
BEGIN:VEVENT
DTSTART;TZID=America/Toronto:20171108T180000
DTEND;TZID=America/Toronto:20171108T200000
DTSTAMP:20260423T031128
CREATED:20170901T135054Z
LAST-MODIFIED:20170901T135842Z
UID:1152-1510164000-1510171200@drcc.ca
SUMMARY:Group Art Therapy
DESCRIPTION:This is an 8-week closed group for survivors of sexual violence and would like the opportunity to express themselves through art.  We will explore the topics of safety\, trust\, control and self-esteem. You do not have to have any artistic skills or experience to participate.  Space is limited to 10 participants. \nWhere:  Durham Rape Crisis Centre \nTo register or for more information\, please contact: \nNaeema Hashmani\, M. Ed.\, Adult Counsellor\, 905 444-9672 ext 22 naeema@drcc.ca
URL:https://drcc.ca/event/group-art-therapy-3/
END:VEVENT
BEGIN:VEVENT
DTSTART;VALUE=DATE:20171102
DTEND;VALUE=DATE:20171103
DTSTAMP:20260423T031128
CREATED:20170906T190630Z
LAST-MODIFIED:20170906T190643Z
UID:1185-1509580800-1509667199@drcc.ca
SUMMARY:Volunteer Training
DESCRIPTION:Women over the age of 18 are invited to participate in our Volunteer Crisis Line Training Program. The program runs for 10 consecutive weeks and volunteers who successfully complete the volunteer Crisis Line training program have the opportunity to volunteer their services on our 24/7 Crisis Line\, assist with groups\, public education and accompaniment. \nThis training is currently underway.  Our next training will be scheduled in the spring.
URL:https://drcc.ca/event/volunteer-training-7/
END:VEVENT
BEGIN:VEVENT
DTSTART;TZID=America/Toronto:20171101T180000
DTEND;TZID=America/Toronto:20171101T200000
DTSTAMP:20260423T031128
CREATED:20170901T135013Z
LAST-MODIFIED:20170901T135816Z
UID:1150-1509559200-1509566400@drcc.ca
SUMMARY:Group Art Therapy
DESCRIPTION:This is an 8-week closed group for survivors of sexual violence and would like the opportunity to express themselves through art.  We will explore the topics of safety\, trust\, control and self-esteem. You do not have to have any artistic skills or experience to participate.  Space is limited to 10 participants. \nWhere:  Durham Rape Crisis Centre \nTo register or for more information\, please contact: \nNaeema Hashmani\, M. Ed.\, Adult Counsellor\, 905 444-9672 ext 22 naeema@drcc.ca
URL:https://drcc.ca/event/group-art-therapy-2/
END:VEVENT
BEGIN:VEVENT
DTSTART;VALUE=DATE:20171026
DTEND;VALUE=DATE:20171027
DTSTAMP:20260423T031128
CREATED:20170906T190540Z
LAST-MODIFIED:20170906T190540Z
UID:1183-1508976000-1509062399@drcc.ca
SUMMARY:Volunteer Training
DESCRIPTION:Women over the age of 18 are invited to participate in our Volunteer Crisis Line Training Program. The program runs for 10 consecutive weeks and volunteers who successfully complete the volunteer Crisis Line training program have the opportunity to volunteer their services on our 24/7 Crisis Line\, assist with groups\, public education and accompaniment. \nThis training is currently underway.  Our next training will be scheduled in the spring.
URL:https://drcc.ca/event/volunteer-training-6/
END:VEVENT
BEGIN:VEVENT
DTSTART;TZID=America/Toronto:20171025T180000
DTEND;TZID=America/Toronto:20171025T200000
DTSTAMP:20260423T031128
CREATED:20170901T134802Z
LAST-MODIFIED:20170901T134923Z
UID:1148-1508954400-1508961600@drcc.ca
SUMMARY:Group Art Therapy
DESCRIPTION:This is an 8-week closed group for survivors of sexual violence and would like the opportunity to express themselves through art.  We will explore the topics of safety\, trust\, control and self-esteem. You do not have to have any artistic skills or experience to participate.  Space is limited to 10 participants. \nWhere:  Durham Rape Crisis Centre \nTo register or for more information\, please contact: \nNaeema Hashmani\, M. Ed.\, Adult Counsellor\, 905 444-9672 ext 22 naeema@drcc.ca
URL:https://drcc.ca/event/group-art-therapy/
END:VEVENT
BEGIN:VEVENT
DTSTART;TZID=America/Toronto:20171024T180000
DTEND;TZID=America/Toronto:20171024T200000
DTSTAMP:20260423T031128
CREATED:20171004T183118Z
LAST-MODIFIED:20171024T152203Z
UID:1223-1508868000-1508875200@drcc.ca
SUMMARY:Survivor's Circle
DESCRIPTION:Do you want to connect with support and be supported by other survivor’s? \nPlease join us in our survivor supporting survivor drop in where we’ll discuss topics that are important in your daily lives. \nPlease RSVP by Friday October 20th to Lynn at 905 444-9672 ext. 23 or email lynn@drcc.ca
URL:https://drcc.ca/event/survivors-circle-3/
END:VEVENT
BEGIN:VEVENT
DTSTART;VALUE=DATE:20171019
DTEND;VALUE=DATE:20171020
DTSTAMP:20260423T031128
CREATED:20170906T190453Z
LAST-MODIFIED:20170906T190453Z
UID:1181-1508371200-1508457599@drcc.ca
SUMMARY:Volunteer Training
DESCRIPTION:Women over the age of 18 are invited to participate in our Volunteer Crisis Line Training Program. The program runs for 10 consecutive weeks and volunteers who successfully complete the volunteer Crisis Line training program have the opportunity to volunteer their services on our 24/7 Crisis Line\, assist with groups\, public education and accompaniment. \nThis training is currently underway.  Our next training will be scheduled in the spring.
URL:https://drcc.ca/event/volunteer-training-5/
END:VEVENT
BEGIN:VEVENT
DTSTART;VALUE=DATE:20171012
DTEND;VALUE=DATE:20171013
DTSTAMP:20260423T031128
CREATED:20170906T190404Z
LAST-MODIFIED:20170906T190404Z
UID:1179-1507766400-1507852799@drcc.ca
SUMMARY:Volunteer Training
DESCRIPTION:Women over the age of 18 are invited to participate in our Volunteer Crisis Line Training Program. The program runs for 10 consecutive weeks and volunteers who successfully complete the volunteer Crisis Line training program have the opportunity to volunteer their services on our 24/7 Crisis Line\, assist with groups\, public education and accompaniment. \nThis training is currently underway.  Our next training will be scheduled in the spring.
URL:https://drcc.ca/event/volunteer-training-4/
END:VEVENT
END:VCALENDAR