BEGIN:VCALENDAR
VERSION:2.0
PRODID:-//Durham Rape Crisis Centre - ECPv6.2.8.1//NONSGML v1.0//EN
CALSCALE:GREGORIAN
METHOD:PUBLISH
X-WR-CALNAME:Durham Rape Crisis Centre
X-ORIGINAL-URL:https://drcc.ca
X-WR-CALDESC:Events for Durham Rape Crisis Centre
REFRESH-INTERVAL;VALUE=DURATION:PT1H
X-Robots-Tag:noindex
X-PUBLISHED-TTL:PT1H
BEGIN:VTIMEZONE
TZID:America/Toronto
BEGIN:DAYLIGHT
TZOFFSETFROM:-0500
TZOFFSETTO:-0400
TZNAME:EDT
DTSTART:20170312T070000
END:DAYLIGHT
BEGIN:STANDARD
TZOFFSETFROM:-0400
TZOFFSETTO:-0500
TZNAME:EST
DTSTART:20171105T060000
END:STANDARD
END:VTIMEZONE
BEGIN:VEVENT
DTSTART;TZID=America/Toronto:20170604T131500
DTEND;TZID=America/Toronto:20170604T164500
DTSTAMP:20260423T091905
CREATED:20170508T143046Z
LAST-MODIFIED:20170508T162531Z
UID:1064-1496582100-1496594700@drcc.ca
SUMMARY:Healing Horses
DESCRIPTION:This is a FREE workshop for survivors of sexual violence who would like the opportunity for healing by connecting with horses.  Through this workshop\, horses will teach you skills that will encourage balance and inspire new life directions. It is an opportunity to remind you how wonderful it can be to connect\, trust\, be seen\, heard and valued. \nNo previous experience with horses is required.  We will not be riding horses.  We will be grooming and walking horses as well as leading them through an obstacle course. \nYou can bring a support person.  Two DRCC staff will be there for support. \nWe will be meeting at DRCC and taking a bus together to Audley Road Stables (Herd Dynamics) in Ajax. \nPlease note that this event is full.  We will be holding another event in the fall. \nIf interested in the fall event please contact Jackie at jackie@drcc.ca or call 905 444-9672 ext. 22 \nWe would like to thank the 100 Women Who Care Clarington for without their donation this workshop would not be possible.
URL:https://drcc.ca/event/healing-horses/
END:VEVENT
BEGIN:VEVENT
DTSTART;TZID=America/Toronto:20170531T120000
DTEND;TZID=America/Toronto:20170531T140000
DTSTAMP:20260423T091905
CREATED:20170510T174916Z
LAST-MODIFIED:20170510T174916Z
UID:1072-1496232000-1496239200@drcc.ca
SUMMARY:Healing Paws
DESCRIPTION:Do you feel lonely\, isolated\, overwhelmed\, or have difficulty connecting with others? \nPlease join us for a visit with Denise and her dog Roxy from Therapeutic Paws of Canada while we talk about the power of animals in healing. \nPlease note that Roxy is not a hypo-allergenic dog\, so if you have allergies please ensure you have emergency medication when you attend. \nRSVP by:  Monday May 29th to Jackie at 905 444-9672 ext. 22 or email jackie@drcc.ca \n 
URL:https://drcc.ca/event/healing-paws/
END:VEVENT
BEGIN:VEVENT
DTSTART;TZID=America/Toronto:20170528T100000
DTEND;TZID=America/Toronto:20170528T140000
DTSTAMP:20260423T091905
CREATED:20170424T182649Z
LAST-MODIFIED:20170504T164110Z
UID:961-1495965600-1495980000@drcc.ca
SUMMARY:2nd Annual Steps for Survivors
DESCRIPTION:2nd Annual Steps for Survivors \nWalk\, Run\, Roll or Stroll! \n2K or 5K \nRaffles\, BBQ and More \nJoin us at Rotary Park in Ajax for our second annual Steps for Survivors walkathon fundraiser. Together we will walk\, run\, roll or stroll in support of survivors. \nRegistration Opens at 10:00am / Walk and BBQ 11:00am – 2:00pm \nOnline Registration NOW OPEN \nBuild your team or register yourself and collect donations in support of your participation! \nregister here \nFor more information please contact Candice at candice@drcc.ca or 905-444-9672 ext. 27 \nThings Get Solved If YOU Get Involved!!! \nRegister Today!
URL:https://drcc.ca/event/steps-for-survivors-2/
LOCATION:Rotary Park\, 177 Lake Driveway W\, Ajax\, Ontario\, L1S 7J1\, Canada
ATTACH;FMTTYPE=image/jpeg:https://drcc.ca/wp-content/uploads/2017/04/DZ_survivorswalk___Gallery-1.jpg
END:VEVENT
BEGIN:VEVENT
DTSTART;TZID=America/Toronto:20170525T140000
DTEND;TZID=America/Toronto:20170525T160000
DTSTAMP:20260423T091905
CREATED:20170501T155254Z
LAST-MODIFIED:20170501T155254Z
UID:974-1495720800-1495728000@drcc.ca
SUMMARY:Survivor's Circle
DESCRIPTION:Do you want to connect with support and be supported by other survivor’s? \nPlease join us in our survivor supporting survivor drop in where we’ll discuss topics that are important in your daily lives \n  \n“ALONE WE CAN DO SO LITTLE; TOGETHER WE CAN DO SO MUCH.”  – Helen Keller \nRSVP by:  Monday May 22 to Jackie at jackie@drcc.ca or call 905 444-9672 ext. 22
URL:https://drcc.ca/event/survivors-circle-2/
END:VEVENT
BEGIN:VEVENT
DTSTART;TZID=America/Toronto:20170523T180000
DTEND;TZID=America/Toronto:20170523T200000
DTSTAMP:20260423T091905
CREATED:20170428T173553Z
LAST-MODIFIED:20170428T173553Z
UID:973-1495562400-1495569600@drcc.ca
SUMMARY:Volunteer Training
DESCRIPTION:Women over the age of 18 are invited to participate in our Volunteer Crisis Line Training Program. The program runs for 10 consecutive weeks and volunteers who successfully complete the volunteer Crisis Line training program have the opportunity to volunteer their services on our 24 Hour Crisis Line\, assist with groups\, public education and accompaniment. \nThis training is currently underway.  Our next training will be scheduled in the fall.
URL:https://drcc.ca/event/volunteer-training-9-2/
END:VEVENT
BEGIN:VEVENT
DTSTART;TZID=America/Toronto:20170516T180000
DTEND;TZID=America/Toronto:20170516T200000
DTSTAMP:20260423T091905
CREATED:20170428T173510Z
LAST-MODIFIED:20170428T173510Z
UID:972-1494957600-1494964800@drcc.ca
SUMMARY:Volunteer Training
DESCRIPTION:Women over the age of 18 are invited to participate in our Volunteer Crisis Line Training Program. The program runs for 10 consecutive weeks and volunteers who successfully complete the volunteer Crisis Line training program have the opportunity to volunteer their services on our 24 Hour Crisis Line\, assist with groups\, public education and accompaniment. \nThis training is currently underway.  Our next training will be scheduled in the fall.
URL:https://drcc.ca/event/volunteer-training-8-2/
END:VEVENT
BEGIN:VEVENT
DTSTART;TZID=America/Toronto:20170509T180000
DTEND;TZID=America/Toronto:20170509T200000
DTSTAMP:20260423T091905
CREATED:20170428T173431Z
LAST-MODIFIED:20170428T173431Z
UID:971-1494352800-1494360000@drcc.ca
SUMMARY:Volunteer Training
DESCRIPTION:Women over the age of 18 are invited to participate in our Volunteer Crisis Line Training Program. The program runs for 10 consecutive weeks and volunteers who successfully complete the volunteer Crisis Line training program have the opportunity to volunteer their services on our 24 Hour Crisis Line\, assist with groups\, public education and accompaniment. \nThis training is currently underway.  Our next training will be scheduled in the fall.
URL:https://drcc.ca/event/volunteer-training-7-2/
END:VEVENT
BEGIN:VEVENT
DTSTART;TZID=America/Toronto:20170502T180000
DTEND;TZID=America/Toronto:20170502T200000
DTSTAMP:20260423T091905
CREATED:20170428T173342Z
LAST-MODIFIED:20170428T173342Z
UID:970-1493748000-1493755200@drcc.ca
SUMMARY:Volunteer Training
DESCRIPTION:Women over the age of 18 are invited to participate in our Volunteer Crisis Line Training Program. The program runs for 10 consecutive weeks and volunteers who successfully complete the volunteer Crisis Line training program have the opportunity to volunteer their services on our 24 Hour Crisis Line\, assist with groups\, public education and accompaniment. \nThis training is currently underway.  Our next training will be scheduled in the fall.
URL:https://drcc.ca/event/volunteer-training-6-2/
END:VEVENT
BEGIN:VEVENT
DTSTART;TZID=America/Toronto:20170426T180000
DTEND;TZID=America/Toronto:20170426T200000
DTSTAMP:20260423T091905
CREATED:20170428T172635Z
LAST-MODIFIED:20170428T172635Z
UID:965-1493229600-1493236800@drcc.ca
SUMMARY:Solution Focused Group
DESCRIPTION:Closed
URL:https://drcc.ca/event/solution-focused-group-3-2/
END:VEVENT
BEGIN:VEVENT
DTSTART;TZID=America/Toronto:20170425T180000
DTEND;TZID=America/Toronto:20170425T200000
DTSTAMP:20260423T091905
CREATED:20170428T173302Z
LAST-MODIFIED:20170428T173302Z
UID:969-1493143200-1493150400@drcc.ca
SUMMARY:Volunteer Training
DESCRIPTION:Women over the age of 18 are invited to participate in our Volunteer Crisis Line Training Program. The program runs for 10 consecutive weeks and volunteers who successfully complete the volunteer Crisis Line training program have the opportunity to volunteer their services on our 24 Hour Crisis Line\, assist with groups\, public education and accompaniment. \nThis training is currently underway.  Our next training will be scheduled in the fall.
URL:https://drcc.ca/event/volunteer-training-5-2/
END:VEVENT
BEGIN:VEVENT
DTSTART;TZID=America/Toronto:20170419T180000
DTEND;TZID=America/Toronto:20170419T200000
DTSTAMP:20260423T091905
CREATED:20170428T172811Z
LAST-MODIFIED:20170428T172811Z
UID:966-1492624800-1492632000@drcc.ca
SUMMARY:Solution Focused Group
DESCRIPTION:Closed
URL:https://drcc.ca/event/solution-focused-group-4-2/
END:VEVENT
BEGIN:VEVENT
DTSTART;TZID=America/Toronto:20170418T180000
DTEND;TZID=America/Toronto:20170418T200000
DTSTAMP:20260423T091905
CREATED:20170428T173222Z
LAST-MODIFIED:20170428T173222Z
UID:968-1492538400-1492545600@drcc.ca
SUMMARY:Volunteer Training
DESCRIPTION:Women over the age of 18 are invited to participate in our Volunteer Crisis Line Training Program. The program runs for 10 consecutive weeks and volunteers who successfully complete the volunteer Crisis Line training program have the opportunity to volunteer their services on our 24 Hour Crisis Line\, assist with groups\, public education and accompaniment. \nThis training is currently underway.  Our next training will be scheduled in the fall.
URL:https://drcc.ca/event/volunteer-training-4-2/
END:VEVENT
BEGIN:VEVENT
DTSTART;TZID=America/Toronto:20170412T180000
DTEND;TZID=America/Toronto:20170412T200000
DTSTAMP:20260423T091905
CREATED:20170428T172531Z
LAST-MODIFIED:20170428T172531Z
UID:964-1492020000-1492027200@drcc.ca
SUMMARY:Solution Focused Group
DESCRIPTION:Closed
URL:https://drcc.ca/event/solution-focused-group-2-2/
END:VEVENT
BEGIN:VEVENT
DTSTART;TZID=America/Toronto:20170411T180000
DTEND;TZID=America/Toronto:20170411T200000
DTSTAMP:20260423T091905
CREATED:20170428T172941Z
LAST-MODIFIED:20170428T172941Z
UID:967-1491933600-1491940800@drcc.ca
SUMMARY:Volunteer Training
DESCRIPTION:Women over the age of 18 are invited to participate in our Volunteer Crisis Line Training Program. The program runs for 10 consecutive weeks and volunteers who successfully complete the volunteer Crisis Line training program have the opportunity to volunteer their services on our 24 Hour Crisis Line\, assist with groups\, public education and accompaniment. \nThis training is currently underway.  Our next training will be scheduled in the fall. \n 
URL:https://drcc.ca/event/volunteer-training-2-2/
END:VEVENT
BEGIN:VEVENT
DTSTART;TZID=America/Toronto:20170405T180000
DTEND;TZID=America/Toronto:20170405T200000
DTSTAMP:20260423T091905
CREATED:20170428T171747Z
LAST-MODIFIED:20170428T171747Z
UID:963-1491415200-1491422400@drcc.ca
SUMMARY:Solution Focused Group
DESCRIPTION:Closed
URL:https://drcc.ca/event/solution-focused-group-5/
END:VEVENT
BEGIN:VEVENT
DTSTART;TZID=America/Toronto:20170404T180000
DTEND;TZID=America/Toronto:20170404T200000
DTSTAMP:20260423T091905
CREATED:20170428T171643Z
LAST-MODIFIED:20170428T171643Z
UID:962-1491328800-1491336000@drcc.ca
SUMMARY:Volunteer Training
DESCRIPTION:Women over the age of 18 are invited to participate in our Volunteer Crisis Line Training Program. The program runs for 10 consecutive weeks and volunteers who successfully complete the volunteer Crisis Line training program have the opportunity to volunteer their services on our 24 Hour Crisis Line\, assist with groups\, public education and accompaniment. \nThis training is currently underway.  Our next training will be scheduled in the fall. \n 
URL:https://drcc.ca/event/volunteer-training-3/
END:VEVENT
END:VCALENDAR