BEGIN:VCALENDAR
VERSION:2.0
PRODID:-//Durham Rape Crisis Centre - ECPv6.2.8.1//NONSGML v1.0//EN
CALSCALE:GREGORIAN
METHOD:PUBLISH
X-ORIGINAL-URL:https://drcc.ca
X-WR-CALDESC:Events for Durham Rape Crisis Centre
REFRESH-INTERVAL;VALUE=DURATION:PT1H
X-Robots-Tag:noindex
X-PUBLISHED-TTL:PT1H
BEGIN:VTIMEZONE
TZID:America/Toronto
BEGIN:DAYLIGHT
TZOFFSETFROM:-0500
TZOFFSETTO:-0400
TZNAME:EDT
DTSTART:20250309T070000
END:DAYLIGHT
BEGIN:STANDARD
TZOFFSETFROM:-0400
TZOFFSETTO:-0500
TZNAME:EST
DTSTART:20251102T060000
END:STANDARD
END:VTIMEZONE
BEGIN:VEVENT
DTSTART;TZID=America/Toronto:20251006T143000
DTEND;TZID=America/Toronto:20251006T153000
DTSTAMP:20260420T181935
CREATED:20250929T145751Z
LAST-MODIFIED:20250929T145751Z
UID:17481-1759761000-1759764600@drcc.ca
SUMMARY:Yoga
DESCRIPTION:Virtual Yoga class with Sam\, please e-mail samanthag@drcc.ca to register.
URL:https://drcc.ca/event/yoga-55/
END:VEVENT
BEGIN:VEVENT
DTSTART;TZID=America/Toronto:20251001T150000
DTEND;TZID=America/Toronto:20251001T170000
DTSTAMP:20260420T181935
CREATED:20250929T151124Z
LAST-MODIFIED:20250929T151124Z
UID:17505-1759330800-1759338000@drcc.ca
SUMMARY:Intimacy after trauma
DESCRIPTION:An interactive\, deep dive workshop on how to bring safety into your body so that you can build richness into your intimate life. We will be exploring somatic/embodiment practices\, self-soothing practices\, discussing what your definition of liberating intimacy looks like and how to uniquely build that into your life from the space of safety and honouring your body and needs! To register\, e-mail Sam at samanthag@drcc.ca
URL:https://drcc.ca/event/intimacy-after-trauma-2/
END:VEVENT
BEGIN:VEVENT
DTSTART;TZID=America/Toronto:20250918T180000
DTEND;TZID=America/Toronto:20250918T200000
DTSTAMP:20260420T181935
CREATED:20250911T154713Z
LAST-MODIFIED:20250911T154713Z
UID:15138-1758218400-1758225600@drcc.ca
SUMMARY:Take Back the Night
DESCRIPTION:
URL:https://drcc.ca/event/take-back-the-night-3/
LOCATION:1 Mcgrigor St. Oshawa\, ON L1H 1X8\, 1 Mcgrigor St.\, Oshawa\, ON\, L1H 1X8\, Canada
END:VEVENT
BEGIN:VEVENT
DTSTART;TZID=America/Toronto:20250827T090000
DTEND;TZID=America/Toronto:20250827T110000
DTSTAMP:20260420T181935
CREATED:20250801T144426Z
LAST-MODIFIED:20250801T144426Z
UID:12265-1756285200-1756292400@drcc.ca
SUMMARY:Journalling Through Meditation
DESCRIPTION:In JTM\, the focus is on connecting to your heart through your breath. Participants will be prompted with reflection questions and encouraged to connect and build on their intuition. Topics such as self-worth\, shame\, healthy boundaries\, relationships\, self-love\, etc. are focused on. All you have to do is bring a pen and paper\, connect to your breath\, and the rest will be guided. For more information about Journaling Through Meditation or to register\, please contact Samantha at samanthag@drcc.ca.
URL:https://drcc.ca/event/journalling-through-meditation/
END:VEVENT
BEGIN:VEVENT
DTSTART;TZID=America/Toronto:20250826T110000
DTEND;TZID=America/Toronto:20250826T120000
DTSTAMP:20260420T181935
CREATED:20250801T143055Z
LAST-MODIFIED:20250801T143055Z
UID:12254-1756206000-1756209600@drcc.ca
SUMMARY:Guided Healing Meditation
DESCRIPTION:Guided Healing Meditation offers breath work and tapping into healing on the nervous system. In this group\, you will learn various mindful techniques that aid in grounding and staying connected to your mind-body. Guided Healing Meditation may also consist of visualizations that help to bring profound healing and reflections. For more information about Guided Healing Meditation or to register\, please contact Samantha at samanthag@drcc.ca.
URL:https://drcc.ca/event/guided-healing-meditation-50/
END:VEVENT
BEGIN:VEVENT
DTSTART;TZID=America/Toronto:20250826T090000
DTEND;TZID=America/Toronto:20250826T100000
DTSTAMP:20260420T181935
CREATED:20250801T142457Z
LAST-MODIFIED:20250801T142457Z
UID:12239-1756198800-1756202400@drcc.ca
SUMMARY:Yoga
DESCRIPTION:Trauma-informed yoga with Sam is an additional holistic healing experience with sequence of movements that help to connect you to your mind and body. All levels are welcome. Participants are encouraged to go at their own pace and to take breaks when needed. For more information about the Yoga group or to register\, please contact Samantha at samanthag@drcc.ca.
URL:https://drcc.ca/event/yoga-54/
END:VEVENT
BEGIN:VEVENT
DTSTART;TZID=America/Toronto:20250825T110000
DTEND;TZID=America/Toronto:20250825T120000
DTSTAMP:20260420T181935
CREATED:20250801T143003Z
LAST-MODIFIED:20250801T143003Z
UID:12252-1756119600-1756123200@drcc.ca
SUMMARY:Guided Healing Meditation
DESCRIPTION:Guided Healing Meditation offers breath work and tapping into healing on the nervous system. In this group\, you will learn various mindful techniques that aid in grounding and staying connected to your mind-body. Guided Healing Meditation may also consist of visualizations that help to bring profound healing and reflections. For more information about Guided Healing Meditation or to register\, please contact Samantha at samanthag@drcc.ca.
URL:https://drcc.ca/event/guided-healing-meditation-49/
END:VEVENT
BEGIN:VEVENT
DTSTART;TZID=America/Toronto:20250825T090000
DTEND;TZID=America/Toronto:20250825T100000
DTSTAMP:20260420T181935
CREATED:20250801T142411Z
LAST-MODIFIED:20250801T142411Z
UID:12237-1756112400-1756116000@drcc.ca
SUMMARY:Yoga
DESCRIPTION:Trauma-informed yoga with Sam is an additional holistic healing experience with sequence of movements that help to connect you to your mind and body. All levels are welcome. Participants are encouraged to go at their own pace and to take breaks when needed. For more information about the Yoga group or to register\, please contact Samantha at samanthag@drcc.ca.
URL:https://drcc.ca/event/yoga-53/
END:VEVENT
BEGIN:VEVENT
DTSTART;TZID=America/Toronto:20250820T090000
DTEND;TZID=America/Toronto:20250820T110000
DTSTAMP:20260420T181935
CREATED:20250801T144316Z
LAST-MODIFIED:20250801T144316Z
UID:12263-1755680400-1755687600@drcc.ca
SUMMARY:Intimacy After Trauma
DESCRIPTION:An interactive\, deep dive workshop on how to bring safety into your body so that you can build richness into your intimate life. We will be exploring somatic/embodiment practices\, self-soothing practices\, discussing what your definition of liberating intimacy looks like and how to uniquely build that into your life from the space of safety and honouring your body and needs! To register\, e-mail Sam at samanthag@drcc.ca
URL:https://drcc.ca/event/intimacy-after-trauma/
END:VEVENT
BEGIN:VEVENT
DTSTART;TZID=America/Toronto:20250819T110000
DTEND;TZID=America/Toronto:20250819T120000
DTSTAMP:20260420T181935
CREATED:20250801T142932Z
LAST-MODIFIED:20250801T142932Z
UID:12250-1755601200-1755604800@drcc.ca
SUMMARY:Guided Healing Meditation
DESCRIPTION:Guided Healing Meditation offers breath work and tapping into healing on the nervous system. In this group\, you will learn various mindful techniques that aid in grounding and staying connected to your mind-body. Guided Healing Meditation may also consist of visualizations that help to bring profound healing and reflections. For more information about Guided Healing Meditation or to register\, please contact Samantha at samanthag@drcc.ca.
URL:https://drcc.ca/event/guided-healing-meditation-48/
END:VEVENT
BEGIN:VEVENT
DTSTART;TZID=America/Toronto:20250819T090000
DTEND;TZID=America/Toronto:20250819T100000
DTSTAMP:20260420T181935
CREATED:20250801T142341Z
LAST-MODIFIED:20250801T142341Z
UID:12235-1755594000-1755597600@drcc.ca
SUMMARY:Yoga
DESCRIPTION:Trauma-informed yoga with Sam is an additional holistic healing experience with sequence of movements that help to connect you to your mind and body. All levels are welcome. Participants are encouraged to go at their own pace and to take breaks when needed. For more information about the Yoga group or to register\, please contact Samantha at samanthag@drcc.ca.
URL:https://drcc.ca/event/yoga-52/
END:VEVENT
BEGIN:VEVENT
DTSTART;TZID=America/Toronto:20250818T110000
DTEND;TZID=America/Toronto:20250818T120000
DTSTAMP:20260420T181935
CREATED:20250801T142858Z
LAST-MODIFIED:20250801T142858Z
UID:12248-1755514800-1755518400@drcc.ca
SUMMARY:Guided Healing Meditation
DESCRIPTION:Guided Healing Meditation offers breath work and tapping into healing on the nervous system. In this group\, you will learn various mindful techniques that aid in grounding and staying connected to your mind-body. Guided Healing Meditation may also consist of visualizations that help to bring profound healing and reflections. For more information about Guided Healing Meditation or to register\, please contact Samantha at samanthag@drcc.ca.
URL:https://drcc.ca/event/guided-healing-meditation-47/
END:VEVENT
BEGIN:VEVENT
DTSTART;TZID=America/Toronto:20250818T090000
DTEND;TZID=America/Toronto:20250818T100000
DTSTAMP:20260420T181935
CREATED:20250801T142307Z
LAST-MODIFIED:20250801T142307Z
UID:12233-1755507600-1755511200@drcc.ca
SUMMARY:Yoga
DESCRIPTION:Trauma-informed yoga with Sam is an additional holistic healing experience with sequence of movements that help to connect you to your mind and body. All levels are welcome. Participants are encouraged to go at their own pace and to take breaks when needed. For more information about the Yoga group or to register\, please contact Samantha at samanthag@drcc.ca.
URL:https://drcc.ca/event/yoga-51/
END:VEVENT
BEGIN:VEVENT
DTSTART;TZID=America/Toronto:20250815T090000
DTEND;TZID=America/Toronto:20250815T110000
DTSTAMP:20260420T181935
CREATED:20250801T143958Z
LAST-MODIFIED:20250801T143958Z
UID:12260-1755248400-1755255600@drcc.ca
SUMMARY:Cultivating Healthy Romantic Relationships
DESCRIPTION:This group explores topics such as attachment styles\, boundary setting\, communication\, conflict and repair\, and learning how to tune into your body/intuition as you explore new/current relationships. You can expect to leave with a foundation of what healthy relationships look/feel like\, identify red\, yellow\, and green flags\, how to build meaningful relationships that are fulfilling and beyond surface level\, and – most of all – relationships you feel safe in. \nFor more information about the Healthy Relationships group or to register\, please contact Samantha at samanthag@drcc.ca.
URL:https://drcc.ca/event/cultivating-healthy-romantic-relationships-2/
END:VEVENT
BEGIN:VEVENT
DTSTART;TZID=America/Toronto:20250814T110000
DTEND;TZID=America/Toronto:20250814T120000
DTSTAMP:20260420T181935
CREATED:20250801T142802Z
LAST-MODIFIED:20250801T142802Z
UID:12246-1755169200-1755172800@drcc.ca
SUMMARY:Guided Healing Meditation
DESCRIPTION:Guided Healing Meditation offers breath work and tapping into healing on the nervous system. In this group\, you will learn various mindful techniques that aid in grounding and staying connected to your mind-body. Guided Healing Meditation may also consist of visualizations that help to bring profound healing and reflections. For more information about Guided Healing Meditation or to register\, please contact Samantha at samanthag@drcc.ca.
URL:https://drcc.ca/event/guided-healing-meditation-46/
END:VEVENT
BEGIN:VEVENT
DTSTART;TZID=America/Toronto:20250814T090000
DTEND;TZID=America/Toronto:20250814T100000
DTSTAMP:20260420T181935
CREATED:20250801T142221Z
LAST-MODIFIED:20250801T142221Z
UID:12231-1755162000-1755165600@drcc.ca
SUMMARY:Yoga
DESCRIPTION:Trauma-informed yoga with Sam is an additional holistic healing experience with sequence of movements that help to connect you to your mind and body. All levels are welcome. Participants are encouraged to go at their own pace and to take breaks when needed. For more information about the Yoga group or to register\, please contact Samantha at samanthag@drcc.ca.
URL:https://drcc.ca/event/yoga-50/
END:VEVENT
BEGIN:VEVENT
DTSTART;TZID=America/Toronto:20250813T120000
DTEND;TZID=America/Toronto:20250813T130000
DTSTAMP:20260420T181935
CREATED:20250801T142722Z
LAST-MODIFIED:20250801T142722Z
UID:12244-1755086400-1755090000@drcc.ca
SUMMARY:Guided Healing Meditation
DESCRIPTION:Guided Healing Meditation offers breath work and tapping into healing on the nervous system. In this group\, you will learn various mindful techniques that aid in grounding and staying connected to your mind-body. Guided Healing Meditation may also consist of visualizations that help to bring profound healing and reflections. For more information about Guided Healing Meditation or to register\, please contact Samantha at samanthag@drcc.ca.
URL:https://drcc.ca/event/guided-healing-meditation-45/
END:VEVENT
BEGIN:VEVENT
DTSTART;TZID=America/Toronto:20250813T103000
DTEND;TZID=America/Toronto:20250813T113000
DTSTAMP:20260420T181935
CREATED:20250801T142139Z
LAST-MODIFIED:20250801T142139Z
UID:12229-1755081000-1755084600@drcc.ca
SUMMARY:Yoga
DESCRIPTION:Trauma-informed yoga with Sam is an additional holistic healing experience with sequence of movements that help to connect you to your mind and body. All levels are welcome. Participants are encouraged to go at their own pace and to take breaks when needed. For more information about the Yoga group or to register\, please contact Samantha at samanthag@drcc.ca.
URL:https://drcc.ca/event/yoga-49/
END:VEVENT
BEGIN:VEVENT
DTSTART;TZID=America/Toronto:20250806T090000
DTEND;TZID=America/Toronto:20250806T110000
DTSTAMP:20260420T181935
CREATED:20250801T143709Z
LAST-MODIFIED:20250801T144501Z
UID:12256-1754470800-1754478000@drcc.ca
SUMMARY:Healing Your Relationship to Shame
DESCRIPTION:So often Shame gets a bad reputation and we can tend to push it down and try and avoid it\, which then makes it show up in louder ways.\nBut what if we could learn to build a new relationship to shame by exploring what is REALLY underneath it. Shame always has a message for us\, and when we can tune into the parts of ourselves that are asking to be seen\, and we give permission for this part of us to be seen\, shame begins to get quieter and can be transformed into reclamation of your inner power!\nThis workshop will be held from a Parts Work perspective.\nTo register\, e-mai Sam at samanthag@drcc.ca
URL:https://drcc.ca/event/healing-your-relationship-to-shame/
END:VEVENT
BEGIN:VEVENT
DTSTART;TZID=America/Toronto:20250805T110000
DTEND;TZID=America/Toronto:20250805T120000
DTSTAMP:20260420T181935
CREATED:20250801T142635Z
LAST-MODIFIED:20250801T142635Z
UID:12242-1754391600-1754395200@drcc.ca
SUMMARY:Guided Healing Meditation
DESCRIPTION:Guided Healing Meditation offers breath work and tapping into healing on the nervous system. In this group\, you will learn various mindful techniques that aid in grounding and staying connected to your mind-body. Guided Healing Meditation may also consist of visualizations that help to bring profound healing and reflections. For more information about Guided Healing Meditation or to register\, please contact Samantha at samanthag@drcc.ca.
URL:https://drcc.ca/event/guided-healing-meditation-44/
END:VEVENT
BEGIN:VEVENT
DTSTART;TZID=America/Toronto:20250805T090000
DTEND;TZID=America/Toronto:20250805T100000
DTSTAMP:20260420T181935
CREATED:20250801T142017Z
LAST-MODIFIED:20250801T142017Z
UID:12226-1754384400-1754388000@drcc.ca
SUMMARY:Yoga
DESCRIPTION:Trauma-informed yoga with Sam is an additional holistic healing experience with sequence of movements that help to connect you to your mind and body. All levels are welcome. Participants are encouraged to go at their own pace and to take breaks when needed. For more information about the Yoga group or to register\, please contact Samantha at samanthag@drcc.ca.
URL:https://drcc.ca/event/yoga-48/
END:VEVENT
BEGIN:VEVENT
DTSTART;TZID=America/Toronto:20250430T110000
DTEND;TZID=America/Toronto:20250430T130000
DTSTAMP:20260420T181935
CREATED:20250226T185332Z
LAST-MODIFIED:20250226T185332Z
UID:11142-1746010800-1746018000@drcc.ca
SUMMARY:Healing Through Friendship: A Safe Space to Rebuild Trust and Connection
DESCRIPTION:This group is a safe\, supportive space to heal past wounds\, redefine what true friendship looks like\, and learn to build relationships rooted in trust\, reciprocity\, and emotional safety. Through guided reflection\, embodiment practices\, and conscious conversation\, you’ll deepen your self-awareness\, set healthy boundaries\, and open yourself to friendships that nourish your heart. \nHeal past friendship wounds\nLearn to trust and receive healthy connections\nSet boundaries from a place of self-worth\nCall in friendships that align with your growth\nYou deserve friendships that feel safe\, expansive\, and deeply fulfilling. Join us in creating them! \nFor more information about the Healing Through Friendship group or to register\, please contact Samantha at samanthag@drcc.ca.
URL:https://drcc.ca/event/healing-through-friendship-a-safe-space-to-rebuild-trust-and-connection/
LOCATION:Zoom
ORGANIZER;CN="Durham Rape Crisis Centre":MAILTO:info@drcc.ca
END:VEVENT
BEGIN:VEVENT
DTSTART;TZID=America/Toronto:20250429T130000
DTEND;TZID=America/Toronto:20250429T140000
DTSTAMP:20260420T181935
CREATED:20250226T184720Z
LAST-MODIFIED:20250226T184720Z
UID:11122-1745931600-1745935200@drcc.ca
SUMMARY:Guided Healing Meditation
DESCRIPTION:Guided Healing Meditation offers breath work and tapping into healing on the nervous system. In this group\, you will learn various mindful techniques that aid in grounding and staying connected to your mind-body. Guided Healing Meditation may also consist of visualizations that help to bring profound healing and reflections. \nFor more information about Guided Healing Meditation or to register\, please contact Samantha at samanthag@drcc.ca.
URL:https://drcc.ca/event/guided-healing-meditation-43/
LOCATION:Zoom
ORGANIZER;CN="Durham Rape Crisis Centre":MAILTO:info@drcc.ca
END:VEVENT
BEGIN:VEVENT
DTSTART;TZID=America/Toronto:20250429T110000
DTEND;TZID=America/Toronto:20250429T120000
DTSTAMP:20260420T181935
CREATED:20250226T184116Z
LAST-MODIFIED:20250226T184116Z
UID:11094-1745924400-1745928000@drcc.ca
SUMMARY:Yoga
DESCRIPTION:Trauma-informed yoga with Sam is an additional holistic healing experience with sequence of movements that help to connect you to your mind and body. All levels are welcome. Participants are encouraged to go at their own pace and to take breaks when needed. \nFor more information about the Yoga group or to register\, please contact Samantha at samanthag@drcc.ca.
URL:https://drcc.ca/event/yoga-47/
LOCATION:Zoom
ORGANIZER;CN="Durham Rape Crisis Centre":MAILTO:info@drcc.ca
END:VEVENT
BEGIN:VEVENT
DTSTART;TZID=America/Toronto:20250428T130000
DTEND;TZID=America/Toronto:20250428T140000
DTSTAMP:20260420T181935
CREATED:20250226T184650Z
LAST-MODIFIED:20250226T184651Z
UID:11119-1745845200-1745848800@drcc.ca
SUMMARY:Guided Healing Meditation
DESCRIPTION:Guided Healing Meditation offers breath work and tapping into healing on the nervous system. In this group\, you will learn various mindful techniques that aid in grounding and staying connected to your mind-body. Guided Healing Meditation may also consist of visualizations that help to bring profound healing and reflections. \nFor more information about Guided Healing Meditation or to register\, please contact Samantha at samanthag@drcc.ca.
URL:https://drcc.ca/event/guided-healing-meditation-42/
LOCATION:Zoom
ORGANIZER;CN="Durham Rape Crisis Centre":MAILTO:info@drcc.ca
END:VEVENT
BEGIN:VEVENT
DTSTART;TZID=America/Toronto:20250428T110000
DTEND;TZID=America/Toronto:20250428T120000
DTSTAMP:20260420T181935
CREATED:20250226T184049Z
LAST-MODIFIED:20250226T184049Z
UID:11091-1745838000-1745841600@drcc.ca
SUMMARY:Yoga
DESCRIPTION:Trauma-informed yoga with Sam is an additional holistic healing experience with sequence of movements that help to connect you to your mind and body. All levels are welcome. Participants are encouraged to go at their own pace and to take breaks when needed. \nFor more information about the Yoga group or to register\, please contact Samantha at samanthag@drcc.ca.
URL:https://drcc.ca/event/yoga-46/
LOCATION:Zoom
ORGANIZER;CN="Durham Rape Crisis Centre":MAILTO:info@drcc.ca
END:VEVENT
BEGIN:VEVENT
DTSTART;TZID=America/Toronto:20250423T110000
DTEND;TZID=America/Toronto:20250423T130000
DTSTAMP:20260420T181935
CREATED:20250226T185040Z
LAST-MODIFIED:20250226T185040Z
UID:11133-1745406000-1745413200@drcc.ca
SUMMARY:South Asian Group
DESCRIPTION:Are you a woman of South Asian descent and a survivor of sexual violence? You’re not alone. Join us for a supportive therapeutic group designed to create a safe space for sharing experiences and healing. Together\, we’ll explore cultural norms\, boundary setting\, and strategies for emotional\, psychological\, physical\, and spiritual safety\, “family shame”\, cultural norms and expectations\, and so much more. \nWe will be offering therapeutic exercises\, journal prompts\, and nervous system regulation tools to help you bring more safety into your body so that you can identify your own values and beliefs that feel in alignment with you as an individual. \nThere is no pressure to share your experience\, if you prefer to come and sit in\, just your presence is more than enough and welcome. \nYour unique experience as a South Asian woman is honoured here at DRCC and we would love to have you a part of the community. \nFor more information about the South Asian group or to register\, please contact Samantha at samanthag@drcc.ca.
URL:https://drcc.ca/event/south-asian-group-8/
LOCATION:Zoom
ORGANIZER;CN="Durham Rape Crisis Centre":MAILTO:info@drcc.ca
END:VEVENT
BEGIN:VEVENT
DTSTART;TZID=America/Toronto:20250422T130000
DTEND;TZID=America/Toronto:20250422T140000
DTSTAMP:20260420T181935
CREATED:20250226T184619Z
LAST-MODIFIED:20250226T184620Z
UID:11116-1745326800-1745330400@drcc.ca
SUMMARY:Guided Healing Meditation
DESCRIPTION:Guided Healing Meditation offers breath work and tapping into healing on the nervous system. In this group\, you will learn various mindful techniques that aid in grounding and staying connected to your mind-body. Guided Healing Meditation may also consist of visualizations that help to bring profound healing and reflections. \nFor more information about Guided Healing Meditation or to register\, please contact Samantha at samanthag@drcc.ca.
URL:https://drcc.ca/event/guided-healing-meditation-41/
LOCATION:Zoom
ORGANIZER;CN="Durham Rape Crisis Centre":MAILTO:info@drcc.ca
END:VEVENT
BEGIN:VEVENT
DTSTART;TZID=America/Toronto:20250422T110000
DTEND;TZID=America/Toronto:20250422T120000
DTSTAMP:20260420T181935
CREATED:20250226T184023Z
LAST-MODIFIED:20250226T184023Z
UID:11088-1745319600-1745323200@drcc.ca
SUMMARY:Yoga
DESCRIPTION:Trauma-informed yoga with Sam is an additional holistic healing experience with sequence of movements that help to connect you to your mind and body. All levels are welcome. Participants are encouraged to go at their own pace and to take breaks when needed. \nFor more information about the Yoga group or to register\, please contact Samantha at samanthag@drcc.ca.
URL:https://drcc.ca/event/yoga-45/
ORGANIZER;CN="Durham Rape Crisis Centre":MAILTO:info@drcc.ca
END:VEVENT
BEGIN:VEVENT
DTSTART;TZID=America/Toronto:20250421T130000
DTEND;TZID=America/Toronto:20250421T140000
DTSTAMP:20260420T181935
CREATED:20250226T184550Z
LAST-MODIFIED:20250226T184551Z
UID:11113-1745240400-1745244000@drcc.ca
SUMMARY:Guided Healing Meditation
DESCRIPTION:Guided Healing Meditation offers breath work and tapping into healing on the nervous system. In this group\, you will learn various mindful techniques that aid in grounding and staying connected to your mind-body. Guided Healing Meditation may also consist of visualizations that help to bring profound healing and reflections. \nFor more information about Guided Healing Meditation or to register\, please contact Samantha at samanthag@drcc.ca.
URL:https://drcc.ca/event/guided-healing-meditation-40/
LOCATION:Zoom
ORGANIZER;CN="Durham Rape Crisis Centre":MAILTO:info@drcc.ca
END:VEVENT
END:VCALENDAR